BEGIN:VCALENDAR
VERSION:2.0
PRODID:-//ChamberMaster//Event Calendar 2.0//EN
METHOD:PUBLISH
X-PUBLISHED-TTL:P3D
REFRESH-INTERVAL:P3D
CALSCALE:GREGORIAN
BEGIN:VEVENT
DTSTART:20130914T230000Z
DTEND:20130915T020000Z
X-MICROSOFT-CDO-ALLDAYEVENT:FALSE
SUMMARY:Joey Voices is coming to Hampton!
DESCRIPTION:Spend an unforgettable evening with us and the one and only comedian\, impersonator and singing impressionist "JOEY VOICES"! Meet us at Ocean Gaming Casino for appetizers\, dinner and one of the best shows you've ever seen! Enter our 50/50 raffle and try your luck at the gaming tables - you might just win! All proceeds from the benefit fundraiser will support our riders\, horses and programs at Wings & Hooves Therapeutic Riding\, Inc. Seats are limited - RESERVE NOW and help another to fly hoof by hoof.....!
X-ALT-DESC;FMTTYPE=text/html:Spend an unforgettable evening with us and the one and only comedian\, impersonator and singing impressionist &quot\;JOEY VOICES&quot\;! Meet us at Ocean Gaming Casino for appetizers\, dinner and one of the best shows you&#39\;ve ever seen! Enter our 50/50 raffle and try your luck at the gaming tables - you might just win! All proceeds from the benefit fundraiser will support our riders\, horses and programs at Wings &amp\; Hooves Therapeutic Riding\, Inc. Seats are limited - RESERVE NOW and help another to fly hoof by hoof.....!
LOCATION:Ocean Gaming Casino\, 81 Ocean Blvd.\, Hampton\, NH
UID:e.1659.531
SEQUENCE:3
DTSTAMP:20260420T090557Z
URL:https://business.portsmouthchamber.org/events/details/joey-voices-is-coming-to-hampton-09-14-2013-531
END:VEVENT

END:VCALENDAR
