BEGIN:VCALENDAR
VERSION:2.0
PRODID:-//ChamberMaster//Event Calendar 2.0//EN
METHOD:PUBLISH
X-PUBLISHED-TTL:P3D
REFRESH-INTERVAL:P3D
CALSCALE:GREGORIAN
BEGIN:VEVENT
DTSTART:20170412T230000Z
DTEND:20170413T020000Z
X-MICROSOFT-CDO-ALLDAYEVENT:FALSE
SUMMARY:Join 3S Artspace for Newtown: Film and Community Discussio
DESCRIPTION:Filmed over the course of nearly three years\, the filmmakers use unique access and never before heard testimonies to tell a story of the aftermath of the deadliest mass shooting of schoolchildren in American history on December 14\, 2012. Newtown documents a traumatized community fractured by grief and driven toward a sense of purpose. Joining the ranks of a growing club to which no one wants to belong\, a cast of characters interconnect to weave an intimate story of community resilience.\n\n\n\nDirectly following the screening\, we will have a community discussion led by Gregory Gibson.\n\n\n\nGregory is the author of the book Gone Boy about the shooting death of his son Galen that occurred at Simon's Rock College. Gregory has been active with Mom's Demand Action\, and an outspoken advocate for gun reform. He lives in Gloucester\, MA.
X-ALT-DESC;FMTTYPE=text/html:Filmed over the course of nearly three years\, the filmmakers use unique access and never before heard testimonies to tell a story of the aftermath of the deadliest mass shooting of schoolchildren in American history on December 14\, 2012. Newtown documents a traumatized community fractured by grief and driven toward a sense of purpose. Joining the ranks of a growing club to which no one wants to belong\, a cast of characters interconnect to weave an intimate story of community resilience.<br />\n<br />\nDirectly following the screening\, we will have a community discussion led by Gregory Gibson.<br />\n<br />\nGregory is the author of the book Gone Boy about the shooting death of his son Galen that occurred at Simon&#39\;s Rock College. Gregory has been active with Mom&#39\;s Demand Action\, and an outspoken advocate for gun reform. He lives in Gloucester\, MA.
LOCATION:319 Vaughan St. Portsmouth\, NH
UID:e.1659.29792
SEQUENCE:3
DTSTAMP:20260421T131952Z
URL:https://business.portsmouthchamber.org/events/details/join-3s-artspace-for-newtown-film-and-community-discussio-29792
END:VEVENT

END:VCALENDAR
