BEGIN:VCALENDAR
VERSION:2.0
PRODID:-//ChamberMaster//Event Calendar 2.0//EN
METHOD:PUBLISH
X-PUBLISHED-TTL:P3D
REFRESH-INTERVAL:P3D
CALSCALE:GREGORIAN
BEGIN:VEVENT
DTSTART:20170610T000000Z
DTEND:20170610T020000Z
X-MICROSOFT-CDO-ALLDAYEVENT:FALSE
SUMMARY:Join 3S Artspace in Soggy Po Boys Album Release
DESCRIPTION:he beauty of New Orleans music is that it's celebrated and appreciated everywhere. From the street corner\, to the communing pub\, to the theater. The Po' Boys are doing their part to spread the tasteful soundtrack of the greatest music on the planet from their roost in the Northeast and while out on the road touring the country. The Soggy Po' Boys   so fresh\, so clean (not too clean )\, so rich. Some of the sexiest sounds alive. A brass fueled swinging jazz band that will indeed stand the test of time and transcend the bounds of geographic pigeonholing. The Soggy Po' Boys are:\n\n\n\nEric Klaxton-Saxophone\n\nZach Lange-Trumfit\n\nNick Mainella-Saxophone\n\nMike Effenberger-Piano\n\nStu Dias-Guitar and Vocals\n\nBrett Gallo-Drums\n\nNick Phaneuf- Bass
X-ALT-DESC;FMTTYPE=text/html:he beauty of New Orleans music is that it&rsquo\;s celebrated and appreciated everywhere. From the street corner\, to the communing pub\, to the theater. The Po&rsquo\; Boys are doing their part to spread the tasteful soundtrack of the greatest music on the planet from their roost in the Northeast and while out on the road touring the country. The Soggy Po&rsquo\; Boys &ndash\; so fresh\, so clean (not too clean&hellip\;)\, so rich. Some of the sexiest sounds alive. A brass fueled swinging jazz band that will indeed stand the test of time and transcend the bounds of geographic pigeonholing. The Soggy Po&#39\; Boys are:<br />\n<br />\nEric Klaxton-Saxophone<br />\nZach Lange-Trumfit<br />\nNick Mainella-Saxophone<br />\nMike Effenberger-Piano<br />\nStu Dias-Guitar and Vocals<br />\nBrett Gallo-Drums<br />\nNick Phaneuf- Bass<br />\n
LOCATION:3S Artspace 319 Vaughan St. Portsmouth\, NH
UID:e.1659.31752
SEQUENCE:3
DTSTAMP:20260419T135037Z
URL:https://business.portsmouthchamber.org/events/details/join-3s-artspace-in-soggy-po-boys-album-release-31752
END:VEVENT

END:VCALENDAR
