BEGIN:VCALENDAR
VERSION:2.0
PRODID:-//ChamberMaster//Event Calendar 2.0//EN
METHOD:PUBLISH
X-PUBLISHED-TTL:P3D
REFRESH-INTERVAL:P3D
CALSCALE:GREGORIAN
BEGIN:VEVENT
DTSTART:20170224T200000Z
DTEND:20170225T040000Z
X-MICROSOFT-CDO-ALLDAYEVENT:FALSE
SUMMARY:Join Deciduous Brewing Company for their Pre-Week: Live Free and Drink!
DESCRIPTION:Deciduous Brewing Company and WHYM Craft Beer Cafe are hosting Portsmouth Beer Week's BEST event!\n\n\n\nThis event is all about bringing the seacoast together\, under one roof\, for the love of beer.\n\n\n\nParticipators:\n\n	7th Settlement Brewery\n	Bad Lab Beer Co.\n	Beara Irish Brewing Co.\n	Deciduous Brewing Company\n	Earth Eagle Brewings\n	Great Rhythm Brewing Company\n	Liars Bench Beer Company\n	Neighborhood Beer Co.\n	North Country Hard Cider:  Winter Rye. Barrel aged cider from Rye Whisky and Bourbon barrels from Flag Hill.\n	Smuttynose Brewing Company\n	Stoneface Brewing Co.\n	The Portsmouth Brewery\n	Throwback Brewery\n\nand more!
X-ALT-DESC;FMTTYPE=text/html:Deciduous Brewing Company and WHYM Craft Beer Cafe are hosting Portsmouth Beer Week&rsquo\;s BEST event!<br />\n<br />\nThis event is all about bringing the seacoast together\, under one roof\, for the love of beer.<br />\n<br />\nParticipators:\n<ul>\n	<li>7th Settlement Brewery</li>\n	<li>Bad Lab Beer Co.</li>\n	<li>Beara Irish Brewing Co.</li>\n	<li>Deciduous Brewing Company</li>\n	<li>Earth Eagle Brewings</li>\n	<li>Great Rhythm Brewing Company</li>\n	<li>Liars Bench Beer Company</li>\n	<li>Neighborhood Beer Co.</li>\n	<li>North Country Hard Cider:&nbsp\; Winter Rye. Barrel aged cider from Rye Whisky and Bourbon barrels from Flag Hill.</li>\n	<li>Smuttynose Brewing Company</li>\n	<li>Stoneface Brewing Co.</li>\n	<li>The Portsmouth Brewery</li>\n	<li>Throwback Brewery</li>\n</ul>\nand more!<br />\n&nbsp\;
LOCATION:WHYM Craft Beer Cafe 3548 Lafayette Rd\, Portsmouth
UID:e.1659.30026
SEQUENCE:3
DTSTAMP:20260421T163838Z
URL:https://business.portsmouthchamber.org/events/details/join-deciduous-brewing-company-for-their-pre-week-live-free-and-drink-30026
END:VEVENT

END:VCALENDAR
