BEGIN:VCALENDAR
VERSION:2.0
PRODID:-//ChamberMaster//Event Calendar 2.0//EN
METHOD:PUBLISH
X-PUBLISHED-TTL:P3D
REFRESH-INTERVAL:P3D
CALSCALE:GREGORIAN
BEGIN:VEVENT
DTSTART:20161009T230000Z
DTEND:20161010T020000Z
X-MICROSOFT-CDO-ALLDAYEVENT:FALSE
SUMMARY:Join Portsmouth Book and Bar for Drink "N" Draw
DESCRIPTION:Come Draw or be the model at the Drink "N" Draw\n\nJoin us on the 2nd Tuesday of each month when we get together for a little communal art\n\nFREE EVENT
X-ALT-DESC;FMTTYPE=text/html:Come Draw or be the model at the Drink &quot\;N&quot\; Draw<br />\nJoin us on the 2nd Tuesday of each month when we get together for a little communal art<br />\nFREE EVENT
LOCATION:Portsmouth Book and Bar\, 40 Pleasant St. Portsmouth\, N H
UID:e.1659.8285
SEQUENCE:3
DTSTAMP:20260421T225515Z
URL:https://business.portsmouthchamber.org/events/details/join-portsmouth-book-and-bar-for-drink-n-draw-8285
END:VEVENT

END:VCALENDAR
