BEGIN:VCALENDAR
VERSION:2.0
PRODID:-//ChamberMaster//Event Calendar 2.0//EN
METHOD:PUBLISH
X-PUBLISHED-TTL:P3D
REFRESH-INTERVAL:P3D
CALSCALE:GREGORIAN
BEGIN:VEVENT
DTSTART:20170222T230000Z
DTEND:20170223T020000Z
X-MICROSOFT-CDO-ALLDAYEVENT:FALSE
SUMMARY:Join Portsmouth Brewery for Science Cafe Series
DESCRIPTION:Come enjoy a pint and some food and then participate in an informal\, enlightening discussion with the area's preeminent researchers and educators on selected topics with the theme \n\n"Our Changing Climate\, Our Changing Water".
X-ALT-DESC;FMTTYPE=text/html:Come enjoy a pint and some food and then participate in an informal\, enlightening discussion with the area&#39\;s preeminent researchers and educators on selected topics with the theme&nbsp\;<br />\n&quot\;Our Changing Climate\, Our Changing Water&quot\;.
LOCATION:Portsmouth Brewery 56 Market St\, Portsmouth *Jimmy Lapanza Lounge
UID:e.1659.29917
SEQUENCE:3
DTSTAMP:20260421T164118Z
URL:https://business.portsmouthchamber.org/events/details/join-portsmouth-brewery-for-science-cafe-series-29917
END:VEVENT

END:VCALENDAR
