BEGIN:VCALENDAR
VERSION:2.0
PRODID:-//ChamberMaster//Event Calendar 2.0//EN
METHOD:PUBLISH
X-PUBLISHED-TTL:P3D
REFRESH-INTERVAL:P3D
CALSCALE:GREGORIAN
BEGIN:VEVENT
DTSTART:20161110T190000Z
DTEND:20161110T220000Z
X-MICROSOFT-CDO-ALLDAYEVENT:FALSE
SUMMARY:Join Portsmouth Public Library for their next Caregivers Connect
DESCRIPTION:Join us for our next Caregivers Connect event on November 10th at the Portsmouth Public Library. Trained staff and volunteers from Cornerstone VNA will be providing on-site respite care\, in a safe and welcoming environment\, for caregivers who wish to attend the event. The keynote speaker is A. Michael Bloom\, Author of The Accidental Caregiver's Survival Guide: Your Roadmap to Caregiving without Regret. Special presentation by Ann Marie Olsen-Hayward\, LICSW\, Geriatric Psychiatry\, Frisbie Memorial Hospital and Jenna Arsenault\, RN\, MSW\, Behavioral Health Nurse\, Cornerstone VNA. The event will conclude with a panel discussion with Michael Bloom\, Ann Marie Olsen-Hayward\, Jenna Arsenault and health experts from Cornerstone VNA.
X-ALT-DESC;FMTTYPE=text/html:Join us for our next Caregivers Connect event on November 10th at the Portsmouth Public Library. Trained staff and volunteers from Cornerstone VNA will be providing on-site respite care\, in a safe and welcoming environment\, for caregivers who wish to attend the event. The keynote speaker is A. Michael Bloom\, Author of The Accidental Caregiver&rsquo\;s Survival Guide: Your Roadmap to Caregiving without Regret. Special presentation by Ann Marie Olsen-Hayward\, LICSW\, Geriatric Psychiatry\, Frisbie Memorial Hospital and Jenna Arsenault\, RN\, MSW\, Behavioral Health Nurse\, Cornerstone VNA. The event will conclude with a panel discussion with Michael Bloom\, Ann Marie Olsen-Hayward\, Jenna Arsenault and health experts from Cornerstone VNA.
LOCATION:Portsmouth Public Library on 175 Parrott Ave\, Portsmouth\, NH
UID:e.1659.27698
SEQUENCE:3
DTSTAMP:20260421T225340Z
URL:https://business.portsmouthchamber.org/events/details/join-portsmouth-public-library-for-their-next-caregivers-connect-27698
END:VEVENT

END:VCALENDAR
