BEGIN:VCALENDAR
VERSION:2.0
PRODID:-//ChamberMaster//Event Calendar 2.0//EN
METHOD:PUBLISH
X-PUBLISHED-TTL:P3D
REFRESH-INTERVAL:P3D
CALSCALE:GREGORIAN
BEGIN:VEVENT
DTSTART:20170603T153000Z
DTEND:20170603T193000Z
X-MICROSOFT-CDO-ALLDAYEVENT:FALSE
SUMMARY:Join Prescott Park Arts Festival for the Annual WOKQ Chowder Festival
DESCRIPTION:On the first Saturday of June ever year\, the Annual WOKQ Chowder Festival kicks off our summer season at Prescott Park Arts Festival. A staple of summer in Portsmouth\, NH with nearly twenty restaurants worth of piping hot chowder recipes to enjoy\, live music and refreshing drinks\, this event is always an incredibly great time!\n\n\n\nThis event is FREE for members!\n\n\n\nThis taste-testing affair has become a New England institution for chowder lovers in the tri-state region. An impecible roster of amazing restaurants throughout the seacoast join us to introduce their mouthwatering chowder recipes to compete for the Best Chowder title and to take home the Golden Ladle!  Recipes in the past have included Smoked Scallop Chowder\, Manhattan Chowder\, Vegetarian Chowder\, Corn Chowder and Spicy Seafood Chowder. \n\n\n\nMusic is provided courtesy of  WOKQ.  With fantastic country entertainment gracing the Wilcox Industries Main Stage all day long!\n\n\n\n \nWinners of the 32nd Annual WOKQ Chowder Festival are:\n\n\n\n People's Choice\n\n\n\n1st Place: The River House Restaurant ( Golden Ladle Winner)\n\n\n\n2nd Place: Ri Ra\n\n\n\n3rd Place: Two-Fifty Market\n\n\n\nPeople's Choice Best Booth: The River House\n\n\n\nPeople's Choice Best Veggie Chowder: The Soup Guy\n\n\n\nJudge's Choice\n\n\n\n1st Place: Two-Fifty Market\n\n\n\n2nd Place: Portsmouth Brewery\n\n\n\n3rd: Ri Ra\n\n\n\nJudge's Choice Best Booth: The Soup Guy
X-ALT-DESC;FMTTYPE=text/html:On the first Saturday of June ever year\, the Annual WOKQ Chowder Festival kicks off our summer season at Prescott Park Arts Festival. A staple of summer in Portsmouth\, NH with nearly twenty restaurants worth of piping hot chowder recipes to enjoy\, live music and refreshing drinks\, this event is always an incredibly great time!<br />\n<br />\nThis event is FREE for members!<br />\n<br />\nThis taste-testing affair has become a New England institution for chowder lovers in the tri-state region. An impecible roster of amazing restaurants throughout the seacoast join us to introduce their mouthwatering chowder recipes to compete for the Best Chowder title and to take home the Golden Ladle! &nbsp\;Recipes in the past have included Smoked Scallop Chowder\, Manhattan Chowder\, Vegetarian Chowder\, Corn Chowder and Spicy Seafood Chowder.&nbsp\;<br />\n<br />\nMusic is provided courtesy of &nbsp\;WOKQ. &nbsp\;With fantastic country entertainment gracing the Wilcox Industries Main Stage all day long!<br />\n<br />\n&nbsp\;\n<div style="text-align: center\;"><strong>Winners of the 32nd Annual WOKQ Chowder Festival are:</strong><br />\n<br />\n<strong>&nbsp\;People&#39\;s Choice</strong><br />\n<br />\n1st Place: The River House Restaurant ( Golden Ladle Winner)<br />\n<br />\n2nd Place: Ri Ra<br />\n<br />\n3rd Place: Two-Fifty Market<br />\n<br />\nPeople&#39\;s Choice Best Booth: The River House<br />\n<br />\nPeople&#39\;s Choice Best Veggie Chowder: The Soup Guy<br />\n<br />\n<strong>Judge&#39\;s Choice</strong><br />\n<br />\n1st Place: Two-Fifty Market<br />\n<br />\n2nd Place: Portsmouth Brewery<br />\n<br />\n3rd: Ri Ra<br />\n<br />\nJudge&#39\;s Choice Best Booth: The Soup Guy</div>\n
LOCATION:Prescott Park\, Portsmouth
UID:e.1659.29797
SEQUENCE:3
DTSTAMP:20260419T115835Z
URL:https://business.portsmouthchamber.org/events/details/join-prescott-park-arts-festival-for-the-annual-wokq-chowder-festival-29797
END:VEVENT

END:VCALENDAR
