BEGIN:VCALENDAR
VERSION:2.0
PRODID:-//ChamberMaster//Event Calendar 2.0//EN
METHOD:PUBLISH
X-PUBLISHED-TTL:P3D
REFRESH-INTERVAL:P3D
CALSCALE:GREGORIAN
BEGIN:VEVENT
DTSTART;VALUE=DATE:20170409
DTEND;VALUE=DATE:20170410
TRANSP:TRANSPARENT
X-MICROSOFT-CDO-ALLDAYEVENT:TRUE
SUMMARY:Join Row 34 for "86 Restaurant Week"
DESCRIPTION:Join Row 34 for industry brunch on Sunday Funday to say goodbye to Restaurant Week. Arrive before 12:30 PM for prizes\, drawing at 1:00 PM. \n\n\n\nJello Shots and Mini Cookies\n\n$2 Narrangansetts | $3 Bloody Marys | $5 Mimosas and \n\n$1 Oysters until 5:00PM
X-ALT-DESC;FMTTYPE=text/html:Join Row 34 for industry brunch on Sunday Funday to say goodbye to Restaurant Week. Arrive before 12:30 PM for prizes\, drawing at 1:00 PM.&nbsp\;<br />\n<br />\nJello Shots&nbsp\;and Mini Cookies<br />\n$2 Narrangansetts&nbsp\;| $3 Bloody Marys | $5 Mimosas and&nbsp\;<br />\n$1 Oysters until 5:00PM
LOCATION:Row 34 5 Portwalk Pl Portsmouth\, NH
UID:e.1659.30330
SEQUENCE:3
DTSTAMP:20260421T131645Z
URL:https://business.portsmouthchamber.org/events/details/join-row-34-for-86-restaurant-week-30330
END:VEVENT

END:VCALENDAR
