BEGIN:VCALENDAR
VERSION:2.0
PRODID:-//ChamberMaster//Event Calendar 2.0//EN
METHOD:PUBLISH
X-PUBLISHED-TTL:P3D
REFRESH-INTERVAL:P3D
CALSCALE:GREGORIAN
BEGIN:VEVENT
DTSTART:20161022T140000Z
DTEND:20161022T200000Z
X-MICROSOFT-CDO-ALLDAYEVENT:FALSE
SUMMARY:Join South Church for Voices ART from the Heart Gift Fair
DESCRIPTION:Saturday\, October 22\, 2016\, the Portsmouth-based women's chorus\, Voices from the Heart\, will hold a gift fair called "Voices ART from the Heart". All artists participating in this fair sing with the 200-member Voices from the Heart\, and will present their own hand-made unique jewelry\, greeting cards\, pottery\, quilting\, seasonal decor\, floral\, paper and fiber art\, baked goods\, painting\, photography and much more. Voices ART from the Heart will benefit Voices from the Heart's 2018 humanitarian concert tour to South Africa\, raising money to strengthen South African organizations engaged in improving the lives of women\, children and families.
X-ALT-DESC;FMTTYPE=text/html:Saturday\, October 22\, 2016\, the Portsmouth-based women&rsquo\;s chorus\, Voices from the Heart\, will hold a gift fair called &ldquo\;Voices ART from the Heart&rdquo\;. All artists participating in this fair sing with the 200-member Voices from the Heart\, and will present their own hand-made unique jewelry\, greeting cards\, pottery\, quilting\, seasonal decor\, floral\, paper and fiber art\, baked goods\, painting\, photography and much more. Voices ART from the Heart will benefit Voices from the Heart&rsquo\;s 2018 humanitarian concert tour to South Africa\, raising money to strengthen South African organizations engaged in improving the lives of women\, children and families.
LOCATION:South Church\, 292 State Street\, Portsmouth\, NH
UID:e.1659.25889
SEQUENCE:3
DTSTAMP:20260421T225730Z
URL:https://business.portsmouthchamber.org/events/details/join-south-church-for-voices-art-from-the-heart-gift-fair-25889
END:VEVENT

END:VCALENDAR
