BEGIN:VCALENDAR
VERSION:2.0
PRODID:-//ChamberMaster//Event Calendar 2.0//EN
METHOD:PUBLISH
X-PUBLISHED-TTL:P3D
REFRESH-INTERVAL:P3D
CALSCALE:GREGORIAN
BEGIN:VEVENT
DTSTART:20170226T190000Z
DTEND:20170226T210000Z
X-MICROSOFT-CDO-ALLDAYEVENT:FALSE
SUMMARY:Join Stoneface Brewing Company for Kegs\, Legs and Eggs
DESCRIPTION:Join Stoneface Brewing Company for darts\, beer\, and scotch eggs! What more could you want?
X-ALT-DESC;FMTTYPE=text/html:Join Stoneface Brewing Company for darts\, beer\, and scotch eggs! What more could you want?
LOCATION:Coat of Arms 174 Fleet St\, Portsmouth
UID:e.1659.30009
SEQUENCE:3
DTSTAMP:20260421T180005Z
URL:https://business.portsmouthchamber.org/events/details/join-stoneface-brewing-company-for-kegs-legs-and-eggs-30009
END:VEVENT

END:VCALENDAR
