BEGIN:VCALENDAR
VERSION:2.0
PRODID:-//ChamberMaster//Event Calendar 2.0//EN
METHOD:PUBLISH
X-PUBLISHED-TTL:P3D
REFRESH-INTERVAL:P3D
CALSCALE:GREGORIAN
BEGIN:VEVENT
DTSTART:20161028T213000Z
DTEND:20161029T000000Z
X-MICROSOFT-CDO-ALLDAYEVENT:FALSE
SUMMARY:Join Strawbery Banke Museum for Ghost on the Banke
DESCRIPTION:Come and meet the Ghosts on the Banke at Strawbery Banke's famous Halloween celebration. Long-dead sea captains\, 17th century shopkeepers and wayward pirates haunt the streets of Portsmouth?s oldest neighborhood as you trick or treat safely from house to historic house. \n\n \nTrick-or-Treat Safely\n\nJack-O-Lanterns light the way to step over the threshold of time and meet the "Ghosts on the Banke." Discover pirate treasure\, visit with the wacky witch\, look into the future with guidance from the gypsy fortune teller.\n\n \n\nCatch a Ghostly Tale\n\nCommunity members bring history back to life with spooky plays\, skits\, and interactive improvisation throughout the evening.\n\n \n\nLight up the Night\n\nWarm weary bones by the bonfire.\n\n \n\nPickwick's At the Banke\n\nDecorated for Halloween\, with all sorts of magic happening!
X-ALT-DESC;FMTTYPE=text/html:Come and meet the Ghosts on the Banke at Strawbery Banke&#39\;s famous Halloween celebration. Long-dead sea captains\, 17th century shopkeepers and wayward pirates haunt the streets of Portsmouth?s oldest neighborhood as you trick or treat safely from house to historic house.&nbsp\;<br />\n&nbsp\;\n<div><strong>Trick-or-Treat Safely</strong></div>\n\n<div>Jack-O-Lanterns light the way to step over the threshold of time and meet the &quot\;Ghosts on the Banke.&quot\; Discover pirate treasure\, visit with the wacky witch\, look into the future with guidance from the gypsy fortune teller.</div>\n\n<div>&nbsp\;</div>\n\n<div><strong>Catch a Ghostly Tale</strong></div>\n\n<div>Community members bring history back to life with spooky plays\, skits\, and interactive improvisation throughout the evening.</div>\n\n<div>&nbsp\;</div>\n\n<div><strong>Light up the Night</strong></div>\n\n<div>Warm weary bones by the bonfire.<br />\n&nbsp\;</div>\n\n<div><strong>Pickwick&#39\;s At the Banke</strong></div>\n\n<div>Decorated for Halloween\, with all sorts of magic happening!</div>\n
LOCATION:Strawbery Banke Museum 14 Hancock Street Portsmouth\, NH
UID:e.1659.23850
SEQUENCE:3
DTSTAMP:20260421T225158Z
URL:https://business.portsmouthchamber.org/events/details/join-strawbery-banke-museum-for-ghost-on-the-banke-23850
END:VEVENT

END:VCALENDAR
