BEGIN:VCALENDAR
VERSION:2.0
PRODID:-//ChamberMaster//Event Calendar 2.0//EN
METHOD:PUBLISH
X-PUBLISHED-TTL:P3D
REFRESH-INTERVAL:P3D
CALSCALE:GREGORIAN
BEGIN:VEVENT
DTSTART:20161029T140000Z
DTEND:20161029T210000Z
X-MICROSOFT-CDO-ALLDAYEVENT:FALSE
SUMMARY:Join the Children's Museum of New Hampshire for a Not-So-Spooky Spectacular
DESCRIPTION:Join us for a Halloween event that focuses on fun   not fright! We'll be celebrating throughout the day with all kinds of special activities. Kids and adults are encouraged to come in costume to explore our exhibits like our Cave Explorers Bat Cave\, Dino Detective and Green Screen Adventures in Travel. Meet the museum's very own Wacky Scientist and check out his fantastical experiments\, visit our Fairy Circle to make magic wands and bubble wisps\, create take-home crafts and get your face painted in the Muse Studio\, and more! Participate in our costume contest\, and try out our trick-or-treat scavenger hunt to receive an extra special prize at the end of your visit!
X-ALT-DESC;FMTTYPE=text/html:Join us for a Halloween event that focuses on fun &ndash\; not fright! We&rsquo\;ll be celebrating throughout the day with all kinds of special activities. Kids and adults are encouraged to come in costume to explore our exhibits like our Cave Explorers Bat Cave\, Dino Detective and Green Screen Adventures in Travel. Meet the museum&rsquo\;s very own Wacky Scientist and check out his fantastical experiments\, visit our Fairy Circle to make magic wands and bubble wisps\, create take-home crafts and get your face painted in the Muse Studio\, and more! Participate in our costume contest\, and try out our trick-or-treat scavenger hunt to receive an extra special prize at the end of your visit!&nbsp\;
LOCATION:Children's Museum of New Hampshire 6 Washington Street Dover\, NH
UID:e.1659.27618
SEQUENCE:3
DTSTAMP:20260421T225725Z
URL:https://business.portsmouthchamber.org/events/details/join-the-children-s-museum-of-new-hampshire-for-a-not-so-spooky-spectacular-27618
END:VEVENT

END:VCALENDAR
