BEGIN:VCALENDAR
VERSION:2.0
PRODID:-//ChamberMaster//Event Calendar 2.0//EN
METHOD:PUBLISH
X-PUBLISHED-TTL:P3D
REFRESH-INTERVAL:P3D
CALSCALE:GREGORIAN
BEGIN:VEVENT
DTSTART;VALUE=DATE:20170224
DTEND;VALUE=DATE:20170225
TRANSP:TRANSPARENT
X-MICROSOFT-CDO-ALLDAYEVENT:TRUE
SUMMARY:Join the Children's Museum of NH for Pajama Day!
DESCRIPTION:Wear your coziest pajamas to come and play at the museum! We'll be having night-themed storytime\, learning about nocturnal animal sounds\, making a special owl crafts in the studio and more! Today promises to be more fun than even the silliest of slumber parties!
X-ALT-DESC;FMTTYPE=text/html:Wear your coziest pajamas to come and play at the museum! We&#39\;ll be having night-themed storytime\, learning about nocturnal animal sounds\, making a special owl crafts in the studio and more! Today promises to be more fun than even the silliest of slumber parties!
LOCATION:Children's Museum of New Hampshire 6 Washington Street Dover\, NH
UID:e.1659.29893
SEQUENCE:3
DTSTAMP:20260421T164323Z
URL:https://business.portsmouthchamber.org/events/details/join-the-children-s-museum-of-nh-for-pajama-day-29893
END:VEVENT

END:VCALENDAR
