BEGIN:VCALENDAR
VERSION:2.0
PRODID:-//ChamberMaster//Event Calendar 2.0//EN
METHOD:PUBLISH
X-PUBLISHED-TTL:P3D
REFRESH-INTERVAL:P3D
CALSCALE:GREGORIAN
BEGIN:VEVENT
DTSTART:20170419T220000Z
DTEND:20170420T010000Z
X-MICROSOFT-CDO-ALLDAYEVENT:FALSE
SUMMARY:Join the Gundalow at Portsmouth Brewery for Science Cafe Series
DESCRIPTION:Come enjoy a pint and some food and then participate in an informal\, enlightening discussion with the area's preeminent researchers and educators on selected topics with the theme  Raging Rivers   Is New England prepared for increasingly extreme weather?  Discussion led by Mary Stampone (NH State Climatologist) and Cliff Sinnott (NH Coastal Risk and Hazards Commission)\, moderated by Sam Evans Brown (NHPR).
X-ALT-DESC;FMTTYPE=text/html:Come enjoy a pint and some food and then participate in an informal\, enlightening discussion with the area&#39\;s preeminent researchers and educators on selected topics with the theme&nbsp\;&nbsp\;<strong>Raging Rivers &ndash\; Is New England prepared for increasingly extreme weather?</strong> &nbsp\;Discussion led by Mary Stampone (NH State Climatologist) and Cliff Sinnott (NH Coastal Risk and Hazards Commission)\, moderated by Sam Evans Brown (NHPR).<br />\n
LOCATION:Portsmouth Brewery 56 Market St\, Portsmouth *Jimmy Lapanza Lounge
UID:e.1659.30007
SEQUENCE:3
DTSTAMP:20260421T132256Z
URL:https://business.portsmouthchamber.org/events/details/join-the-gundalow-at-portsmouth-brewery-for-science-cafe-series-04-19-2017-30007
END:VEVENT

END:VCALENDAR
