BEGIN:VCALENDAR
VERSION:2.0
PRODID:-//ChamberMaster//Event Calendar 2.0//EN
METHOD:PUBLISH
X-PUBLISHED-TTL:P3D
REFRESH-INTERVAL:P3D
CALSCALE:GREGORIAN
BEGIN:VEVENT
DTSTART:20170322T220000Z
DTEND:20170323T010000Z
X-MICROSOFT-CDO-ALLDAYEVENT:FALSE
SUMMARY:Join the Gundalow at Portsmouth Brewery for Science Cafe Series
DESCRIPTION:Come enjoy a pint and some food and then participate in an informal\, enlightening discussion with the area's preeminent researchers and educators on selected topics with the theme Investments in wastewater treatment   what will it mean for water quality in the Piscataqua Region?  Discussion led by Tom Irwin (NH Director\, Conservation Law Foundation)\, Terry Desmarais (Portsmouth City Engineer)\, Dean Peschel (Dover Environmental Manager).
X-ALT-DESC;FMTTYPE=text/html:Come enjoy a pint and some food and then participate in an informal\, enlightening discussion with the area&#39\;s preeminent researchers and educators on selected topics with the theme<strong>&nbsp\;Investments in wastewater treatment &ndash\; what will it mean for water quality in the Piscataqua Region?</strong> &nbsp\;Discussion led by Tom Irwin (NH Director\, Conservation Law Foundation)\, Terry Desmarais (Portsmouth City Engineer)\, Dean Peschel (Dover Environmental Manager).
LOCATION:Portsmouth Brewery 56 Market St\, Portsmouth *Jimmy Lapanza Lounge
UID:e.1659.29924
SEQUENCE:3
DTSTAMP:20260421T151601Z
URL:https://business.portsmouthchamber.org/events/details/join-the-gundalow-at-portsmouth-brewery-for-science-cafe-series-29924
END:VEVENT

END:VCALENDAR
