BEGIN:VCALENDAR
VERSION:2.0
PRODID:-//ChamberMaster//Event Calendar 2.0//EN
METHOD:PUBLISH
X-PUBLISHED-TTL:P3D
REFRESH-INTERVAL:P3D
CALSCALE:GREGORIAN
BEGIN:VEVENT
DTSTART:20170510T220000Z
DTEND:20170511T010000Z
X-MICROSOFT-CDO-ALLDAYEVENT:FALSE
SUMMARY:Join the Gundalow at Portsmouth Brewery for Science Cafe Series
DESCRIPTION:Come enjoy a pint and some food and then participate in an informal\, enlightening discussion with the area's preeminent researchers and educators on selected topics with the theme Pollution Solutions   What can you do as an individual?\n\n\n\nDave Cederholm (Wastewater Engineer at Tighe and Bond)\, and Stephen Jones (UNH/NH Sea Grant)\, Corey Riley (Great Bay National Estuary Research Reserve). moderated by Melissa Paly (CrossCurrent Communications).
X-ALT-DESC;FMTTYPE=text/html:Come enjoy a pint and some food and then participate in an informal\, enlightening discussion with the area&#39\;s preeminent researchers and educators on selected topics with the theme<strong>&nbsp\;Pollution Solutions &ndash\; What can you do as an individual?</strong><br />\n<br />\nDave Cederholm (Wastewater Engineer at Tighe and Bond)\, and Stephen Jones (UNH/NH Sea Grant)\, Corey Riley (Great Bay National Estuary Research Reserve). moderated by Melissa Paly (CrossCurrent Communications).
LOCATION:Portsmouth Brewery 56 Market St\, Portsmouth *Jimmy Lapanza Lounge
UID:e.1659.30100
SEQUENCE:3
DTSTAMP:20260421T132437Z
URL:https://business.portsmouthchamber.org/events/details/join-the-gundalow-at-portsmouth-brewery-for-science-cafe-series-30100
END:VEVENT

END:VCALENDAR
