BEGIN:VCALENDAR
VERSION:2.0
PRODID:-//ChamberMaster//Event Calendar 2.0//EN
METHOD:PUBLISH
X-PUBLISHED-TTL:P3D
REFRESH-INTERVAL:P3D
CALSCALE:GREGORIAN
BEGIN:VEVENT
DTSTART:20170430T003000Z
DTEND:20170430T023000Z
X-MICROSOFT-CDO-ALLDAYEVENT:FALSE
SUMMARY:Join the Music Hall for the District Restaurant Singer Songwriter Series with Noah & Abby Gunderson
DESCRIPTION:Porter has been turning first time listeners into die-hard fans for more than two decades. His blistering guitar playing\, rich songwriting\, and warm\, playful performance style make him a one-man triple threat. Nickerson is an ideal match. Her vocals add lush harmonies to Porter's songs\, making them feel both fresh and timeless.
X-ALT-DESC;FMTTYPE=text/html:Porter has been turning first time listeners into die-hard fans for more than two decades. His blistering guitar playing\, rich songwriting\, and warm\, playful performance style make him a one-man triple threat. Nickerson is an ideal match. Her vocals add lush harmonies to Porter&rsquo\;s songs\, making them feel both fresh and timeless.
LOCATION:The Music Hall Loft 131 Congress Street Portsmouth\, NH
UID:e.1659.30286
SEQUENCE:3
DTSTAMP:20260421T132521Z
URL:https://business.portsmouthchamber.org/events/details/join-the-music-hall-for-the-district-restaurant-singer-songwriter-series-with-noah-abby-gunderson-30286
END:VEVENT

END:VCALENDAR
