BEGIN:VCALENDAR
VERSION:2.0
PRODID:-//ChamberMaster//Event Calendar 2.0//EN
METHOD:PUBLISH
X-PUBLISHED-TTL:P3D
REFRESH-INTERVAL:P3D
CALSCALE:GREGORIAN
BEGIN:VEVENT
DTSTART:20170402T000000Z
DTEND:20170402T020000Z
X-MICROSOFT-CDO-ALLDAYEVENT:FALSE
SUMMARY:Join the Music Hall for the District Restaurant Singer Songwriter Series with Pete Francis of Dispatch
DESCRIPTION:Many people know Pete Francis as one-third member of the independent band Dispatch. And yes\, that's where his journey with music and rock stardom began - playing some of the most memorable venues across the United States with highlights including Madison Square Garden\, The Greek Theaters\, Red Rocks\, and TD Garden (to name a few). His musical involvement also inspired several creative solo endeavors - the most recent of which developed out of his home studio in Connecticut. He creates a sound reminiscent of classic rock evolved with modern tellings of life and including satisfying jams! For those dispatch fans out there\, you can be sure he will include a few favorites in his acoustic duo set at the Loft with his good friend\, the prolific song writer\, Ray Bryant.
X-ALT-DESC;FMTTYPE=text/html:Many people know Pete Francis as one-third member of the independent band Dispatch. And yes\, that&rsquo\;s where his journey with music and rock stardom began - playing some of the most memorable venues across the United States with highlights including Madison Square Garden\, The Greek Theaters\, Red Rocks\, and TD Garden (to name a few). His musical involvement also inspired several creative solo endeavors - the most recent of which developed out of his home studio in Connecticut. He creates a sound reminiscent of classic rock evolved with modern tellings of life and including satisfying jams! For those dispatch fans out there\, you can be sure he will include a few favorites in his acoustic duo set at the Loft with his good friend\, the prolific song writer\, Ray Bryant.
LOCATION:The Music Hall Loft 131 Congress Street Portsmouth\, NH
UID:e.1659.30293
SEQUENCE:3
DTSTAMP:20260421T132603Z
URL:https://business.portsmouthchamber.org/events/details/join-the-music-hall-for-the-district-restaurant-singer-songwriter-series-with-pete-francis-of-dispatch-30293
END:VEVENT

END:VCALENDAR
