BEGIN:VCALENDAR
VERSION:2.0
PRODID:-//ChamberMaster//Event Calendar 2.0//EN
METHOD:PUBLISH
X-PUBLISHED-TTL:P3D
REFRESH-INTERVAL:P3D
CALSCALE:GREGORIAN
BEGIN:VEVENT
DTSTART:20170328T233000Z
DTEND:20170329T013000Z
X-MICROSOFT-CDO-ALLDAYEVENT:FALSE
SUMMARY:Join the Music Hall Historic Theater for "Broadening Your Global Perspective Through Travel with Rick Steves"
DESCRIPTION:Rick Steves   acclaimed for his bestselling guidebooks and public television series   believes there's more to travel than good-value hotels\, great art\, and tasty cuisine. Americans who "travel as a political act" can have the time of their lives and come home smarter with a better understanding of the interconnectedness of today's world. In this provocative slideshow lecture\, Rick will explain how to travel more thoughtfully to any destination. Drawing from lessons he learned while exploring Europe\, Central America\, Asia\, and the Middle East\, Rick will explain that by traveling thoughtfully you can take home the greatest souvenir: a broader perspective.\n\n\n\nProceeds benefit New Hampshire Public Television.
X-ALT-DESC;FMTTYPE=text/html:Rick Steves &ndash\; acclaimed for his bestselling guidebooks and public television series &ndash\; believes there&rsquo\;s more to travel than good-value hotels\, great art\, and tasty cuisine. Americans who &ldquo\;travel as a political act&rdquo\; can have the time of their lives and come home smarter with a better understanding of the interconnectedness of today&rsquo\;s world. In this provocative slideshow lecture\, Rick will explain how to travel more thoughtfully to any destination. Drawing from lessons he learned while exploring Europe\, Central America\, Asia\, and the Middle East\, Rick will explain that by traveling thoughtfully you can take home the greatest souvenir: a broader perspective.<br />\n<br />\nProceeds benefit New Hampshire Public Television.
LOCATION:The Historic Theater 28 Chestnut Street Portsmouth\, NH
UID:e.1659.30235
SEQUENCE:3
DTSTAMP:20260421T164436Z
URL:https://business.portsmouthchamber.org/events/details/join-the-music-hall-historic-theater-for-broadening-your-global-perspective-through-travel-with-rick-steves-30235
END:VEVENT

END:VCALENDAR
