BEGIN:VCALENDAR
VERSION:2.0
PRODID:-//ChamberMaster//Event Calendar 2.0//EN
METHOD:PUBLISH
X-PUBLISHED-TTL:P3D
REFRESH-INTERVAL:P3D
CALSCALE:GREGORIAN
BEGIN:VEVENT
DTSTART:20170311T160000Z
DTEND:20170311T160000Z
X-MICROSOFT-CDO-ALLDAYEVENT:FALSE
SUMMARY:Join the Portsmouth Athenaeum for a talk on Reflections on the South Seas Curiostities
DESCRIPTION:Elizabeth Aykroyd\, curator of the Portsmouth Athenaeum\, will give a talk on "Reflections on the South Seas Curiostities".
X-ALT-DESC;FMTTYPE=text/html:Elizabeth Aykroyd\, curator of the Portsmouth Athenaeum\, will give a talk on &quot\;Reflections on the South Seas Curiostities&quot\;.&nbsp\;
LOCATION:Portsmouth Athenaeum\, Randall Gallery 9 Market Square\, Portsmouth
UID:e.1659.30101
SEQUENCE:3
DTSTAMP:20260421T151539Z
URL:https://business.portsmouthchamber.org/events/details/join-the-portsmouth-athenaeum-for-a-talk-on-reflections-on-the-south-seas-curiostities-30101
END:VEVENT

END:VCALENDAR
