BEGIN:VCALENDAR
VERSION:2.0
PRODID:-//ChamberMaster//Event Calendar 2.0//EN
METHOD:PUBLISH
X-PUBLISHED-TTL:P3D
REFRESH-INTERVAL:P3D
CALSCALE:GREGORIAN
BEGIN:VEVENT
DTSTART:20170325T020000Z
DTEND:20170325T020000Z
X-MICROSOFT-CDO-ALLDAYEVENT:FALSE
SUMMARY:Join the Press Room for A Night At The Zoo Wax Future\, Zoo Logic & Malakai
DESCRIPTION:Wax Future\n\nComprised of Connor Hansell\, Keith Wadsworth and Jamal Rab\, Wax Future is a mosaic of modern electronica. Blending elements of everything from funk to glitch through a live\, improvisational lens. Taking from further roots in hip hop and soul\, the Philadelphia group is constantly expanding upon its original thesis\, while effortlessly maintaining a cathartic focal point of sound.\n\n\n\nZoo Logic\n\nAustin Rogers and Jeff Blair (Producers\, Composers\, and Performers) of Zoo Logic combine future bass with cosmic rhythms for a bold explosion of ear candy. Audiences will find themselves on a roller coaster ride of emotional escapades\, largely due to their musical versatility and willingness to experiment.\n\n\n\nMalakai is the musical vision of Colorado/New York based producer and guitarist\, Malakai Linden. His music draws on many influences and strives to bridge the gap between electronic and acoustic styles\, incorporating the sounds of real instruments into beautiful electronic beats. Malakai's live show includes beats mixed with live guitar and other instrumentation. He began producing music in 2011 at the age of 17 under the guidance of acclaimed producer Derek VanScoten.\n\n\n\nHe now studies Music Technology and Sound Engineering at New York University in New York City. Since 2011\, Malakai has made three releases including a 6-track EP (Looking from the Ground\, Up)\, an 11-track LP (Reflections of Night and Day) and an 8-track remix compilation (Reflections of Reflections: Remixes). Currently\, Malakai is working on a new record as well as a multimedia art installation to come out later in 2013.\n\n\n\nAt only 19\, he's already been ask to play with talented electronic artists such as The Polish Ambassador\, Random Rab\, David Murphy of STS9\, and A.M. Architect.
X-ALT-DESC;FMTTYPE=text/html:<strong>Wax Future</strong><br />\nComprised of Connor Hansell\, Keith Wadsworth and Jamal Rab\, Wax Future is a mosaic of modern electronica. Blending elements of everything from funk to glitch through a live\, improvisational lens. Taking from further roots in hip hop and soul\, the Philadelphia group is constantly expanding upon its original thesis\, while effortlessly maintaining a cathartic focal point of sound.<br />\n<br />\n<strong>Zoo Logic</strong><br />\nAustin Rogers and Jeff Blair (Producers\, Composers\, and Performers) of Zoo Logic combine future bass with cosmic rhythms for a bold explosion of ear candy. Audiences will find themselves on a roller coaster ride of emotional escapades\, largely due to their musical versatility and willingness to experiment.<br />\n<br />\n<strong>Malakai </strong>is the musical vision of Colorado/New York based producer and guitarist\, Malakai Linden. His music draws on many influences and strives to bridge the gap between electronic and acoustic styles\, incorporating the sounds of real instruments into beautiful electronic beats. Malakai&#39\;s live show includes beats mixed with live guitar and other instrumentation. He began producing music in 2011 at the age of 17 under the guidance of acclaimed producer Derek VanScoten.<br />\n<br />\nHe now studies Music Technology and Sound Engineering at New York University in New York City. Since 2011\, Malakai has made three releases including a 6-track EP (Looking from the Ground\, Up)\, an 11-track LP (Reflections of Night and Day) and an 8-track remix compilation (Reflections of Reflections: Remixes). Currently\, Malakai is working on a new record as well as a multimedia art installation to come out later in 2013.<br />\n<br />\nAt only 19\, he&#39\;s already been ask to play with talented electronic artists such as The Polish Ambassador\, Random Rab\, David Murphy of STS9\, and A.M. Architect.
LOCATION:The Press Room 77 Daniel Street Portsmouth\, NH
UID:e.1659.30094
SEQUENCE:3
DTSTAMP:20260421T164145Z
URL:https://business.portsmouthchamber.org/events/details/join-the-press-room-for-a-night-at-the-zoo-wax-future-zoo-logic-malakai-30094
END:VEVENT

END:VCALENDAR
