BEGIN:VCALENDAR
VERSION:2.0
PRODID:-//ChamberMaster//Event Calendar 2.0//EN
METHOD:PUBLISH
X-PUBLISHED-TTL:P3D
REFRESH-INTERVAL:P3D
CALSCALE:GREGORIAN
BEGIN:VEVENT
DTSTART:20170310T020000Z
DTEND:20170310T050000Z
X-MICROSOFT-CDO-ALLDAYEVENT:FALSE
SUMMARY:Join Wally's Pub for Agent Orange\, Guttermouth & The Queers Concert
DESCRIPTION:Join us for Agent Orange\, Guttermouth\, & The Queers for a concert on the beach at Wally's Pub! This show is presented by Summer Sessions Surf Shop & Wally's Pub.
X-ALT-DESC;FMTTYPE=text/html:Join us for Agent Orange\, Guttermouth\, &amp\; The Queers for a concert on the beach at Wally&#39\;s Pub! This show is presented by Summer Sessions Surf Shop &amp\; Wally&#39\;s Pub.
LOCATION:144 Ashworth Ave. Hampton\, NH
UID:e.1659.30088
SEQUENCE:3
DTSTAMP:20260421T164138Z
URL:https://business.portsmouthchamber.org/events/details/join-wally-s-pub-for-agent-orange-guttermouth-the-queers-concert-30088
END:VEVENT

END:VCALENDAR
