BEGIN:VCALENDAR
VERSION:2.0
PRODID:-//ChamberMaster//Event Calendar 2.0//EN
METHOD:PUBLISH
X-PUBLISHED-TTL:P3D
REFRESH-INTERVAL:P3D
CALSCALE:GREGORIAN
BEGIN:VEVENT
DTSTART:20160315T000000Z
DTEND:20160315T020000Z
X-MICROSOFT-CDO-ALLDAYEVENT:FALSE
SUMMARY:Jonathan Lorentz
DESCRIPTION:Dr. Jonathan Lorentz believes strongly in the interactive and collaborative "human element" of music making. He's built to respect and care for everyone on the scene\, which includes his fellow musicians\, clientele of wedding couples\, professional staff & event workers\, up-and-coming players\, and his audiences. \n\n\n\nA passionate live musician\, Jon plays saxophone and piano\, and is an active vocalist. His album Borderlands (his first for the United Kingdom's M tier Jazz label) was released to critical acclaim in 2010\, and is receiving airplay on radio stations throughout the world. In March of 2011 Fanfare Magazine's Lynn Ren  Bayley remarked that "Jonathan Lorentz has really got it: a great style\, an explorative mind\, and a concept that goes beyond the usual fare you hear from trios." Berklee College of Music Professor John Funkhouser celebrates Jonathan for having an "unbelievable sense of time- all the time." And recently\, NEA Jazz Master and legendary saxophonist Dave Liebman simply said that Jonathan has that "real big sound on tenor sax!"
X-ALT-DESC;FMTTYPE=text/html:Dr. Jonathan Lorentz believes strongly in the interactive and collaborative &quot\;human element&quot\; of music making. He&#39\;s built to respect and care for everyone on the scene\, which includes his fellow musicians\, clientele of wedding couples\, professional staff &amp\; event workers\, up-and-coming players\, and his audiences.&nbsp\;<br />\n<br />\nA passionate live musician\, Jon plays saxophone and piano\, and is an active vocalist. His album Borderlands (his first for the United Kingdom&#39\;s M&eacute\;tier Jazz label) was released to critical acclaim in 2010\, and is receiving airplay on radio stations throughout the world. In March of 2011 Fanfare Magazine&#39\;s Lynn Ren&eacute\; Bayley remarked that &quot\;Jonathan Lorentz has really got it: a great style\, an explorative mind\, and a concept that goes beyond the usual fare you hear from trios.&quot\; Berklee College of Music Professor John Funkhouser celebrates Jonathan for having an &quot\;unbelievable sense of time- all the time.&quot\; And recently\, NEA Jazz Master and legendary saxophonist Dave Liebman simply said that Jonathan has that &quot\;real big sound on tenor sax!&quot\;&nbsp\;
LOCATION:The Press Room 77 Daniel Street\, Portsmouth
UID:e.1659.18192
SEQUENCE:3
DTSTAMP:20260420T144307Z
URL:https://business.portsmouthchamber.org/events/details/jonathan-lorentz-03-14-2016-18192
END:VEVENT

END:VCALENDAR
