BEGIN:VCALENDAR
VERSION:2.0
PRODID:-//ChamberMaster//Event Calendar 2.0//EN
METHOD:PUBLISH
X-PUBLISHED-TTL:P3D
REFRESH-INTERVAL:P3D
CALSCALE:GREGORIAN
BEGIN:VEVENT
DTSTART:20260311T133000Z
DTEND:20260311T160000Z
X-MICROSOFT-CDO-ALLDAYEVENT:FALSE
SUMMARY:Journey Into Colonial Life Homeschool Program (ages 5-10)
DESCRIPTION:Journey Into Colonial Life Homeschool Program (ages 5-10) Wednesday\, March 11\, 2026 9:30 AM - 12 PM Step into the past using a book as your time machine! Hear an amusing story of a colonial boy's day in Williamsburg\, VA. Experience his life as you participate in kitchen chores in front of an open hearth\, make old-fashioned tooth powder\, dress up and simulate a stagecoach ride\, and play an 18th-century school game. Visit three historic homes as they compare and contrast daily life 200 years ago to daily life today. Designed for ages 5-10. $15.00 per student\, 10% off each additional child. One adult per family group is allowed to attend.
X-ALT-DESC;FMTTYPE=text/html:Journey Into Colonial Life Homeschool Program (ages 5-10) Wednesday\, March 11\, 2026 9:30 AM - 12 PM Step into the past using a book as your time machine! Hear an amusing story of a colonial boy&rsquo\;s day in Williamsburg\, VA. Experience his life as you participate in kitchen chores in front of an open hearth\, make old-fashioned tooth powder\, dress up and simulate a stagecoach ride\, and play an 18th-century school game. Visit three historic homes as they compare and contrast daily life 200 years ago to daily life today. Designed for ages 5-10. $15.00 per student\, 10% off each additional child. One adult per family group is allowed to attend.
LOCATION:Strawbery Banke Museum 14 Hancock Street\, Portsmouth\, NH
UID:e.1659.87075
SEQUENCE:3
DTSTAMP:20260423T070403Z
URL:https://business.portsmouthchamber.org/events/details/journey-into-colonial-life-homeschool-program-ages-5-10-87075
END:VEVENT

END:VCALENDAR
