BEGIN:VCALENDAR
VERSION:2.0
PRODID:-//ChamberMaster//Event Calendar 2.0//EN
METHOD:PUBLISH
X-PUBLISHED-TTL:P3D
REFRESH-INTERVAL:P3D
CALSCALE:GREGORIAN
BEGIN:VEVENT
DTSTART:20160111T000000Z
DTEND:20160111T030000Z
X-MICROSOFT-CDO-ALLDAYEVENT:FALSE
SUMMARY:Karaoke Throwdown at Seacoast Rep
DESCRIPTION:Come throw down at KARAOKE! THROWDOWN! and cover yourself in glory on the Seacoast Rep stage. \n\n\n\nKaraoke competitors will be judged on sound\, appearance\, and showmanship by a panel of "experts"\, and\, in true keeping with the ancient tradition of karaoke\, they will also be judged by the magnitude of the crowd's warm embrace or cold indifference. The winner will get some token prize and BRAGGING RIGHTS UNTIL THE END OF TIME or such time as they are de-throned. \n\n\n\nSpectators: you may engage in the sacred right of karaoke watching with just a 5$ suggested donation. Come support your champion\, or just drink as our heroes fill the sacred hall with glorious noise.
X-ALT-DESC;FMTTYPE=text/html:Come throw down at KARAOKE! THROWDOWN! and cover yourself in glory on the Seacoast Rep stage.&nbsp\;<br />\n<br />\nKaraoke competitors will be judged on sound\, appearance\, and showmanship by a panel of &quot\;experts&quot\;\, and\, in true keeping with the ancient tradition of karaoke\, they will also be judged by the magnitude of the crowd&#39\;s warm embrace or cold indifference. The winner will get some token prize and BRAGGING RIGHTS UNTIL THE END OF TIME or such time as they are de-throned.&nbsp\;<br />\n<br />\nSpectators: you may engage in the sacred right of karaoke watching with just a 5$ suggested donation. Come support your champion\, or just drink as our heroes fill the sacred hall with glorious noise.&nbsp\;
LOCATION:Seacoast Rep 125 Bow Street\, Portsmouth
UID:e.1659.13396
SEQUENCE:3
DTSTAMP:20260420T131451Z
URL:https://business.portsmouthchamber.org/events/details/karaoke-throwdown-at-seacoast-rep-01-10-2016-13396
END:VEVENT

END:VCALENDAR
