BEGIN:VCALENDAR
VERSION:2.0
PRODID:-//ChamberMaster//Event Calendar 2.0//EN
METHOD:PUBLISH
X-PUBLISHED-TTL:P3D
REFRESH-INTERVAL:P3D
CALSCALE:GREGORIAN
BEGIN:VEVENT
DTSTART:20160126T233000Z
DTEND:20160127T020000Z
X-MICROSOFT-CDO-ALLDAYEVENT:FALSE
SUMMARY:Kenwood Vineyards Sustainability Dinner
DESCRIPTION:The Atlantic Grill will be featuring a 3 course dinner with pairings from Kenwood Vineyards.  Kenwood Vineyards is committed to sustainability\, leading the way in what it means to be a green vineyards.  With that in mind\, Chef Greg Pike has carefully crafted his menu not only to enhance the flavor of these magnificent wines but also to feature some of the best sustainable prodcuts and vendors available.  \n\nTickets are $65/guest +tax +gratuity.  This includes a welcome glass of sparkling wine\, a 3 course dinner and wine pairings.  No bill will be presented on the day of the event unless you choose to buy additional beverages through your server.  \n\nTo read more about Kenwood Vineyards committment to sustainability visit: \n\nhttp://kenwoodvineyards.com/sustainable-business/
X-ALT-DESC;FMTTYPE=text/html:<p>The Atlantic Grill will be featuring a 3 course dinner with pairings from Kenwood Vineyards. &nbsp\;Kenwood Vineyards is committed to sustainability\, leading the way in what it means to be a green vineyards. &nbsp\;With that in mind\, Chef Greg Pike has carefully crafted his menu not only to enhance the flavor of these magnificent wines but also to feature some of the best sustainable prodcuts and vendors available. &nbsp\;</p>\n\n<p>Tickets are $65/guest +tax +gratuity. &nbsp\;This includes a welcome glass of sparkling wine\, a 3 course dinner and wine pairings. &nbsp\;No bill will be presented on the day of the event unless you choose to buy additional beverages through your server. &nbsp\;</p>\n\n<p>To read more about Kenwood Vineyards committment to sustainability visit:&nbsp\;</p>\n\n<p><a href="http://kenwoodvineyards.com/sustainable-business/">http://kenwoodvineyards.com/sustainable-business/</a></p>\n
LOCATION:The Atlantic Grill 5 Pioneer Rd\, Rye\, NH 03870
UID:e.1659.13866
SEQUENCE:3
DTSTAMP:20260420T115850Z
URL:https://business.portsmouthchamber.org/events/details/kenwood-vineyards-sustainability-dinner-01-26-2016-13866
END:VEVENT

END:VCALENDAR
