BEGIN:VCALENDAR
VERSION:2.0
PRODID:-//ChamberMaster//Event Calendar 2.0//EN
METHOD:PUBLISH
X-PUBLISHED-TTL:P3D
REFRESH-INTERVAL:P3D
CALSCALE:GREGORIAN
BEGIN:VEVENT
DTSTART:20141007T223000Z
DTEND:20141008T003000Z
X-MICROSOFT-CDO-ALLDAYEVENT:FALSE
SUMMARY:Kickoff to Komen
DESCRIPTION:Interested in becoming involved in planning the 2015 NH Race for the Cure? Come to the kickoff event on October 7th to learn more! Race Committee positions vary in type and time commitment\, so there is something for everyone! Join our dedicated volunteers as we plan Komen VT-NH's best Seacoast event of the year! You are welcome to bring Friends and Family! Light snacks and cash bar will be available. Interested in joining the committee but not able to make the event\, please contact Carolyn Ostrom\, Community Relations Specialist\, at 617.501.2728 or costrom@vtnhkomen.org. Race Details - The 4th Annual NH Race for the Cure will be on May 9\, 2015 at Strawbery Banke in Portsmouth\, NH. Help us raise money to fund local NH and VT breast health programs.
X-ALT-DESC;FMTTYPE=text/html:Interested in becoming involved in planning the 2015 NH Race for the Cure? Come to the kickoff event on October 7th to learn more! Race Committee positions vary in type and time commitment\, so there is something for everyone! Join our dedicated volunteers as we plan Komen VT-NH&#39\;s best Seacoast event of the year! You are welcome to bring Friends and Family! Light snacks and cash bar will be available. Interested in joining the committee but not able to make the event\, please contact Carolyn Ostrom\, Community Relations Specialist\, at 617.501.2728 or costrom@vtnhkomen.org. Race Details - The 4th Annual NH Race for the Cure will be on May 9\, 2015 at Strawbery Banke in Portsmouth\, NH. Help us raise money to fund local NH and VT breast health programs.
LOCATION:Sheraton Portsmouth Harborside Hotel\, 250 Market St. Portsmouth\, NH
UID:e.1659.3003
SEQUENCE:3
DTSTAMP:20260419T143815Z
URL:https://business.portsmouthchamber.org/events/details/kickoff-to-komen-10-07-2014-3003
END:VEVENT

END:VCALENDAR
