BEGIN:VCALENDAR
VERSION:2.0
PRODID:-//ChamberMaster//Event Calendar 2.0//EN
METHOD:PUBLISH
X-PUBLISHED-TTL:P3D
REFRESH-INTERVAL:P3D
CALSCALE:GREGORIAN
BEGIN:VEVENT
DTSTART:20131227T140000Z
DTEND:20131227T190000Z
X-MICROSOFT-CDO-ALLDAYEVENT:FALSE
SUMMARY:Kids' Maker Camp
DESCRIPTION:Calling all inquisitive kids! The Children's Museum of NH is hosting a one-day Maker Camp during December school vacation week. The program will focus on building\, creating and experimenting at open-ended activity stations and in guided workshops led by museum educators. Participants will make mini vibrating robots\, LED gadgets and special contraptions for an Egg Drop experiment. There will also be projects related to fiber arts\, construction with real tools\, electronics and more. Kids should wear clothes that can get messy and bring their own nut-free bag lunch. Register by calling 603-742-2002.
X-ALT-DESC;FMTTYPE=text/html:Calling all inquisitive kids! The Children&#39\;s Museum of NH is hosting a one-day Maker Camp during December school vacation week. The program will focus on building\, creating and experimenting at open-ended activity stations and in guided workshops led by museum educators. Participants will make mini vibrating robots\, LED gadgets and special contraptions for an Egg Drop experiment. There will also be projects related to fiber arts\, construction with real tools\, electronics and more. Kids should wear clothes that can get messy and bring their own nut-free bag lunch. Register by calling 603-742-2002.
LOCATION:The Children's Museum of New Hampshire 6 Washington Street\, Dover\, NH 03820
UID:e.1659.797
SEQUENCE:3
DTSTAMP:20260420T042741Z
URL:https://business.portsmouthchamber.org/events/details/kids-maker-camp-12-27-2013-797
END:VEVENT

END:VCALENDAR
