BEGIN:VCALENDAR
VERSION:2.0
PRODID:-//ChamberMaster//Event Calendar 2.0//EN
METHOD:PUBLISH
X-PUBLISHED-TTL:P3D
REFRESH-INTERVAL:P3D
CALSCALE:GREGORIAN
BEGIN:VEVENT
DTSTART;VALUE=DATE:20140703
DTEND;VALUE=DATE:20140707
TRANSP:TRANSPARENT
X-MICROSOFT-CDO-ALLDAYEVENT:TRUE
SUMMARY:Kittery Premium Outlets July 4th Summer Sidewalk Sale
DESCRIPTION:Come to Kittery Premium Outlets to celebrate July 4th at the Summer Sidewalk Sale. Enjoy shopping and the summer holiday festivities while searching for great values at Premium Outlets merchants. Both inside and outside sales abound for the most popular weekend of the summer!
X-ALT-DESC;FMTTYPE=text/html:&nbsp\;\n<p class="MsoNormal" style="margin: 0in 0in 0pt"><span style="font-family: Arial"><font size="3"><font color="#000000">Come to Kittery Premium Outlets to celebrate July 4th at the Summer Sidewalk Sale. Enjoy shopping and the summer holiday festivities while searching for great values at Premium Outlets merchants. Both inside and outside sales abound for the most popular weekend of the summer!<o:p></o:p></font></font></span></p>\n
LOCATION:375 US Route 1\, Kittery\, ME. 03904
UID:e.1659.1460
SEQUENCE:3
DTSTAMP:20260419T190424Z
URL:https://business.portsmouthchamber.org/events/details/kittery-premium-outlets-july-4th-summer-sidewalk-sale-07-03-2014-1460
END:VEVENT

END:VCALENDAR
