BEGIN:VCALENDAR
VERSION:2.0
PRODID:-//ChamberMaster//Event Calendar 2.0//EN
METHOD:PUBLISH
X-PUBLISHED-TTL:P3D
REFRESH-INTERVAL:P3D
CALSCALE:GREGORIAN
BEGIN:VEVENT
DTSTART;VALUE=DATE:20141001
DTEND;VALUE=DATE:20141101
TRANSP:TRANSPARENT
X-MICROSOFT-CDO-ALLDAYEVENT:TRUE
SUMMARY:Kittery Premium Outlets Pink Event
DESCRIPTION:During the month of October\, shoppers can visit the on-site Information Center at Kittery Premium Outlets (4) to donate $10 to benefit Susan G. Komen for the Cure  and then enjoy a rewarding day of shopping at the Premium Outlets  Pink Event. For each donation of $10 or more\, shoppers will receive a special savings card filled with "25% off one single item" offers from participating outlet stores.  For more information\, visit www.premiumoutlets.com.\n\n\n\nSusan G. Komen for the Cure  is the boldest community fueling the best science and making the biggest impact in the fight against breast cancer. For more information\, please visit www.komen.org or call 1-877 GO KOMEN.
X-ALT-DESC;FMTTYPE=text/html:<p class="MsoNormal" style="margin: 0in 0in 0pt\;"><span style="font-family: Arial\;"><font size="3"><font color="#000000">During the month of October\, shoppers can visit the on-site <st1:place w:st="on"><st1:placename w:st="on">Information</st1:placename> <st1:placetype w:st="on">Center</st1:placetype></st1:place> at Kittery Premium Outlets (4) to donate $10 to benefit Susan G. Komen for the Cure&reg\; and then enjoy a rewarding day of shopping at the Premium Outlets&reg\; Pink Event. For each donation of $10 or more\, shoppers will receive a special savings card filled with &ldquo\;25% off one single item&rdquo\; offers from participating outlet stores.&nbsp\; For more information\, visit www.premiumoutlets.com.<br />\n<br />\nSusan G. Komen for the Cure&reg\; is the boldest community fueling the best science and making the biggest impact in the fight against breast cancer. For more information\, please visit www.komen.org or call 1-877 GO KOMEN.</font></font></span><br />\n<br />\n&nbsp\;</p>\n
LOCATION:375 US Route 1\, Kittery\, ME. 03904
UID:e.1659.1464
SEQUENCE:3
DTSTAMP:20260419T144236Z
URL:https://business.portsmouthchamber.org/events/details/kittery-premium-outlets-pink-event-10-01-2014-1464
END:VEVENT

END:VCALENDAR
