BEGIN:VCALENDAR
VERSION:2.0
PRODID:-//ChamberMaster//Event Calendar 2.0//EN
METHOD:PUBLISH
X-PUBLISHED-TTL:P3D
REFRESH-INTERVAL:P3D
CALSCALE:GREGORIAN
BEGIN:VEVENT
DTSTART;VALUE=DATE:20140903
DTEND;VALUE=DATE:20140910
TRANSP:TRANSPARENT
X-MICROSOFT-CDO-ALLDAYEVENT:TRUE
SUMMARY:Kittery Trading Post's 36th Annual Septemberfest
DESCRIPTION:Join us for an incredible week for activities\, fun\, and discounts from labor day\, Monday September 1 to Sunday September 7.
X-ALT-DESC;FMTTYPE=text/html:Join us for an incredible week for activities\, fun\, and discounts from labor day\, Monday&nbsp\;September&nbsp\;1 to Sunday&nbsp\;September&nbsp\;7.&nbsp\;
LOCATION:
UID:e.1659.2134
SEQUENCE:3
DTSTAMP:20260419T161434Z
URL:https://business.portsmouthchamber.org/events/details/kittery-trading-post-s-36th-annual-septemberfest-09-03-2014-2134
END:VEVENT

END:VCALENDAR
