BEGIN:VCALENDAR
VERSION:2.0
PRODID:-//ChamberMaster//Event Calendar 2.0//EN
METHOD:PUBLISH
X-PUBLISHED-TTL:P3D
REFRESH-INTERVAL:P3D
CALSCALE:GREGORIAN
BEGIN:VEVENT
DTSTART:20250930T220000Z
DTEND:20251001T010000Z
X-MICROSOFT-CDO-ALLDAYEVENT:FALSE
SUMMARY:Koyo: Autumn Glow – Fall Omakase Dinner
DESCRIPTION:Step into Nichinan's exclusive parlor on Tuesday\, September 30th\, 2025 at 6 PM for the second dinner in our Omakase Series: Koyo: Autumn Glow. This intimate 9-course dinner celebrates the flavors of fall\, blending traditional Japanese techniques with the best of New England's autumn ingredients. Limited to 14 guests\, diners will be seated at a communal table\, with each course thoughtfully crafted to reflect the colors\, textures\, and tastes of the koyo season. Reserve now for an unforgettable autumn dining experience.
X-ALT-DESC;FMTTYPE=text/html:Step into Nichinan&rsquo\;s exclusive parlor on <strong>Tuesday\, September 30th\, 2025</strong> at 6 PM for the second dinner in our Omakase Series: <strong>Koyo: Autumn Glow</strong>. This intimate 9-course dinner celebrates the flavors of fall\, blending traditional Japanese techniques with the best of New England&rsquo\;s autumn ingredients. Limited to 14 guests\, diners will be seated at a communal table\, with each course thoughtfully crafted to reflect the colors\, textures\, and tastes of the koyo season. Reserve now for an unforgettable autumn dining experience.
LOCATION:Nichinan (inside Hotel Thaxter) 15 Middle Street Portsmouth\, NH 03801
UID:e.1659.84231
SEQUENCE:3
DTSTAMP:20260423T232249Z
URL:https://business.portsmouthchamber.org/events/details/koyo-autumn-glow-fall-omakase-dinner-84231
END:VEVENT

END:VCALENDAR
