BEGIN:VCALENDAR
VERSION:2.0
PRODID:-//ChamberMaster//Event Calendar 2.0//EN
METHOD:PUBLISH
X-PUBLISHED-TTL:P3D
REFRESH-INTERVAL:P3D
CALSCALE:GREGORIAN
BEGIN:VEVENT
DTSTART:20131212T150000Z
DTEND:20131213T020000Z
X-MICROSOFT-CDO-ALLDAYEVENT:FALSE
SUMMARY:Ladies Holiday Shopping Day
DESCRIPTION:This Holiday shopping experience will include chocolate goodies all day/night with bubbly spirits offered in the evening\, gift drawings and a Wish List Registry for family and friends of the shopper for a gift that will be truly appreciated!
X-ALT-DESC;FMTTYPE=text/html:This Holiday shopping experience will include chocolate goodies all day/night with bubbly spirits offered in the evening\, gift drawings and a Wish List Registry for family and friends of the shopper for a gift that will be truly appreciated!
LOCATION:Downtown Portsmouth participating shops.
UID:e.1659.763
SEQUENCE:3
DTSTAMP:20260420T043242Z
URL:https://business.portsmouthchamber.org/events/details/ladies-holiday-shopping-day-12-12-2013-763
END:VEVENT

END:VCALENDAR
