BEGIN:VCALENDAR
VERSION:2.0
PRODID:-//ChamberMaster//Event Calendar 2.0//EN
METHOD:PUBLISH
X-PUBLISHED-TTL:P3D
REFRESH-INTERVAL:P3D
CALSCALE:GREGORIAN
BEGIN:VEVENT
DTSTART:20140606T190000Z
DTEND:20140606T200000Z
X-MICROSOFT-CDO-ALLDAYEVENT:FALSE
SUMMARY:Late-Day "Mid-Day" Meet
DESCRIPTION:An innovative\, structured event developed to assist you with networking strategies.\n\n\n\nAlways be sure to bring:\n\n- Business cards\, and a brief\, descriptive overview of your business\n\n- A memorable success story about your business to share\n\n- Promotional material and/or an opportunity you would like to present
X-ALT-DESC;FMTTYPE=text/html:An innovative\, structured event developed to assist you with networking strategies.<br />\n<br />\nAlways be sure to bring:<br />\n- Business cards\, and a brief\, descriptive overview of your business<br />\n- A memorable success story about your business to share<br />\n- Promotional material and/or an opportunity you would like to present
LOCATION:River House Deck
UID:e.1659.271
SEQUENCE:3
DTSTAMP:20260419T202139Z
URL:https://business.portsmouthchamber.org/events/details/late-day-mid-day-meet-06-06-2014-271
END:VEVENT

END:VCALENDAR
