BEGIN:VCALENDAR
VERSION:2.0
PRODID:-//ChamberMaster//Event Calendar 2.0//EN
METHOD:PUBLISH
X-PUBLISHED-TTL:P3D
REFRESH-INTERVAL:P3D
CALSCALE:GREGORIAN
BEGIN:VEVENT
DTSTART:20140802T000000Z
DTEND:20140803T030000Z
X-MICROSOFT-CDO-ALLDAYEVENT:FALSE
SUMMARY:Left Bank Cabaret: Kara DioGuardi
DESCRIPTION:The Grammy Award-nominated and former American Idol judge performs her greatest hits and tells the stories that shaped them. Some of her songs include "Sober" by Pink\, "Walkaway" by Kelly Clarkson and "Undo it" by Carrie Underwood.\n\nLEFT BANK CABARET\n\nThe series takes its name from Portsmouth's location on the left bank of the Piscataqua River. Set in The Music Hall Loft\, this European-inspired cabaret boasts intimate table seating\; luxe interiors\; and a superior array of wine\, craft beers\, signature cocktails\, and upscale treats.
X-ALT-DESC;FMTTYPE=text/html:<span style="color: rgb(102\, 102\, 102)\; line-height: 22px\; font-family: &quot\;Droid Sans&quot\;\, &quot\;Lucida Grande&quot\;\, Arial\, sans-serif\; font-size: 14px\;">The Grammy Award-nominated and former American Idol judge performs her greatest hits and tells the stories that shaped them. Some of her songs include &ldquo\;Sober&rdquo\; by Pink\, &ldquo\;Walkaway&rdquo\; by Kelly Clarkson and &ldquo\;Undo it&rdquo\; by Carrie Underwood.</span>\n\n<h5 style="margin: 15px 0px 0px\; color: rgb(167\, 121\, 53)\; text-transform: uppercase\; line-height: 1.12rem\; font-family: &quot\;Droid Sans&quot\;\, &quot\;Lucida Grande&quot\;\, Arial\, sans-serif\; font-size: 0.87rem\;"><span style="color: rgb(0\, 0\, 0)\;">LEFT BANK CABARET</span></h5>\n\n<p style="margin: 0px 0px 15px\; padding: 0px\; color: rgb(102\, 102\, 102)\; line-height: 22px\; font-family: &quot\;Droid Sans&quot\;\, &quot\;Lucida Grande&quot\;\, Arial\, sans-serif\; font-size: 14px\;">The series takes its name from Portsmouth&rsquo\;s location on the left bank of the Piscataqua River. Set in The Music Hall Loft\, this European-inspired cabaret boasts intimate table seating\; luxe interiors\; and a superior array of wine\, craft beers\, signature cocktails\, and upscale treats.</p>\n
LOCATION:The Music Hall Loft
UID:e.1659.2176
SEQUENCE:3
DTSTAMP:20260419T174812Z
URL:https://business.portsmouthchamber.org/events/details/left-bank-cabaret-kara-dioguardi-08-01-2014-2176
END:VEVENT

END:VCALENDAR
