BEGIN:VCALENDAR
VERSION:2.0
PRODID:-//ChamberMaster//Event Calendar 2.0//EN
METHOD:PUBLISH
X-PUBLISHED-TTL:P3D
REFRESH-INTERVAL:P3D
CALSCALE:GREGORIAN
BEGIN:VEVENT
DTSTART:20140729T233000Z
DTEND:20140730T030000Z
X-MICROSOFT-CDO-ALLDAYEVENT:FALSE
SUMMARY:Left Bank Cabaret: Mikaela Davis
DESCRIPTION:Mikaela Davis is an indie harpist/singer-songwriter from Rochester\, New York\, known for her amazing YouTube covers of Sufjan Stevens' "Casimir Pulaski Day\," which has received over 130\,000 hits\, and her cover of Elliott Smith's "Twilight\," which has received close to 70\,000 hits.\n\n\n\nOpener: Clara Berry\n\nClara grew up by the sea in Southern Maine\, writing delicate\, twisting melodies and enchanting story-based lyrics. Meanwhile Joe O'Neill\, the primary force of Wooldog\, grew up on Boston's South Shore garnering influence from Billy Martin and John Zorn whilst wailing on pickle buckets in the Cambridge streets. The two met at a show in Lowell\, MA and later found their styles to be perfectly complimentary.
X-ALT-DESC;FMTTYPE=text/html:<span style="color: rgb(102\, 102\, 102)\; line-height: 22px\; font-family: &quot\;Droid Sans&quot\;\, &quot\;Lucida Grande&quot\;\, Arial\, sans-serif\; font-size: 14px\;">Mikaela Davis is an indie harpist/singer-songwriter from Rochester\, New York\, known for her amazing YouTube covers of Sufjan Stevens&rsquo\; &ldquo\;Casimir Pulaski Day\,&rdquo\; which has received over 130\,000 hits\, and her cover of Elliott Smith&rsquo\;s &ldquo\;Twilight\,&rdquo\; which has received close to 70\,000 hits.</span><br />\n<br />\n<strong style="color: rgb(102\, 102\, 102)\; line-height: 22px\; font-family: &quot\;Droid Sans&quot\;\, &quot\;Lucida Grande&quot\;\, Arial\, sans-serif\; font-size: 14px\;">Opener:&nbsp\;</strong><a href="http://claraberry.com/" style="color: rgb(170\, 90\, 0)\; line-height: 22px\; font-family: &quot\;Droid Sans&quot\;\, &quot\;Lucida Grande&quot\;\, Arial\, sans-serif\; font-size: 14px\;" target="_blank">Clara Berry</a><br style="color: rgb(102\, 102\, 102)\; line-height: 22px\; font-family: &quot\;Droid Sans&quot\;\, &quot\;Lucida Grande&quot\;\, Arial\, sans-serif\; font-size: 14px\;" />\n<span style="color: rgb(102\, 102\, 102)\; line-height: 22px\; font-family: &quot\;Droid Sans&quot\;\, &quot\;Lucida Grande&quot\;\, Arial\, sans-serif\; font-size: 14px\;">Clara grew up by the sea in Southern Maine\, writing delicate\, twisting melodies and enchanting story-based lyrics. Meanwhile Joe O&rsquo\;Neill\, the primary force of Wooldog\, grew up on Boston&rsquo\;s South Shore garnering influence from Billy Martin and John Zorn whilst wailing on pickle buckets in the Cambridge streets. The two met at a show in Lowell\, MA and later found their styles to be perfectly complimentary.</span>
LOCATION:The Music Hall Loft
UID:e.1659.2174
SEQUENCE:3
DTSTAMP:20260419T185718Z
URL:https://business.portsmouthchamber.org/events/details/left-bank-cabaret-mikaela-davis-07-29-2014-2174
END:VEVENT

END:VCALENDAR
