BEGIN:VCALENDAR
VERSION:2.0
PRODID:-//ChamberMaster//Event Calendar 2.0//EN
METHOD:PUBLISH
X-PUBLISHED-TTL:P3D
REFRESH-INTERVAL:P3D
CALSCALE:GREGORIAN
BEGIN:VEVENT
DTSTART:20140731T000000Z
DTEND:20140731T030000Z
X-MICROSOFT-CDO-ALLDAYEVENT:FALSE
SUMMARY:Left Bank cabaret: Patrick Dorow's Piano Room
DESCRIPTION:For more than a decade Patrick's family home has been host to close friends who have gone on to become professional performers at the Broadway and National Touring level.  \n\n\n\nTreat yourself to a evening with Patrick as he tickles the piano keys in The Loft and treats you to a mix of Broadway favorites and Billboard Top Hits.  He will be joined by some of his talented friends to harmonize and perform a number or two for your entertainment.\n\nLEFT BANK CABARET\n\nThe series takes its name from Portsmouth's location on the left bank of the Piscataqua River. Set in The Music Hall Loft\, this European-inspired cabaret boasts intimate table seating\; luxe interiors\; and a superior array of wine\, craft beers\, signature cocktails\, and upscale treats.
X-ALT-DESC;FMTTYPE=text/html:<span style="color: rgb(102\, 102\, 102)\; font-family: 'Droid Sans'\, 'Lucida Grande'\, Arial\, sans-serif\; font-size: 14px\; line-height: 22px\;">For more than a decade Patrick&rsquo\;s family home has been host to close friends who have gone on to become professional performers at the Broadway and National Touring level.&nbsp\;&nbsp\;</span><br style="color: rgb(102\, 102\, 102)\; font-family: 'Droid Sans'\, 'Lucida Grande'\, Arial\, sans-serif\; font-size: 14px\; line-height: 22px\;" />\n<br style="color: rgb(102\, 102\, 102)\; font-family: 'Droid Sans'\, 'Lucida Grande'\, Arial\, sans-serif\; font-size: 14px\; line-height: 22px\;" />\n<span style="color: rgb(102\, 102\, 102)\; font-family: 'Droid Sans'\, 'Lucida Grande'\, Arial\, sans-serif\; font-size: 14px\; line-height: 22px\;">Treat yourself to a evening with Patrick as he tickles the piano keys in The Loft and treats you to a mix of Broadway favorites and Billboard Top Hits.&nbsp\; He will be joined by some of his talented friends to harmonize and perform a number or two for your entertainment.</span>\n\n<h5 style="font-size: 0.875rem\; line-height: 1.125rem\; margin: 15px 0px 0px\; color: rgb(167\, 121\, 53)\; text-transform: uppercase\; font-family: 'Droid Sans'\, 'Lucida Grande'\, Arial\, sans-serif\;">LEFT BANK CABARET</h5>\n\n<p style="margin: 0px 0px 15px\; padding: 0px\; color: rgb(102\, 102\, 102)\; font-family: 'Droid Sans'\, 'Lucida Grande'\, Arial\, sans-serif\; font-size: 14px\; line-height: 22px\;">The series takes its name from Portsmouth&rsquo\;s location on the left bank of the Piscataqua River. Set in The Music Hall Loft\, this European-inspired cabaret boasts intimate table seating\; luxe interiors\; and a superior array of wine\, craft beers\, signature cocktails\, and upscale treats.</p>\n
LOCATION:The Music Hall Loft
UID:e.1659.2175
SEQUENCE:3
DTSTAMP:20260419T190044Z
URL:https://business.portsmouthchamber.org/events/details/left-bank-cabaret-patrick-dorow-s-piano-room-07-30-2014-2175
END:VEVENT

END:VCALENDAR
