BEGIN:VCALENDAR
VERSION:2.0
PRODID:-//ChamberMaster//Event Calendar 2.0//EN
METHOD:PUBLISH
X-PUBLISHED-TTL:P3D
REFRESH-INTERVAL:P3D
CALSCALE:GREGORIAN
BEGIN:VEVENT
DTSTART:20140809T000000Z
DTEND:20140810T030000Z
X-MICROSOFT-CDO-ALLDAYEVENT:FALSE
SUMMARY:Left Bank Cabaret: Taylor O'Donnell
DESCRIPTION:This Colorado native is a contemporary vocalist who uses her deep roots in jazz\, folk and R&B to perform in an array of settings. From exploring her own original music to taking on the beloved melodies of Joni Mitchell\, she sings with demanding prowess and captivating originality.\n\nJoining O'Donnell will be Chris Klaxton on trumpet and piano\, Jonny Peiffer on piano and aux percussion\, Sam Weber on bass\, and Jay Sawyer on drums.  They will be performing a mix of Joni Mitchell\, Laura Nyro\, Anais Mitchell\, and original songs tunes. \n\nLEFT BANK CABARET\n\nThe series takes its name from Portsmouth's location on the left bank of the Piscataqua River. Set in The Music Hall Loft\, this European-inspired cabaret boasts intimate table seating\; luxe interiors\; and a superior array of wine\, craft beers\, signature cocktails\, and upscale treats.
X-ALT-DESC;FMTTYPE=text/html:<p style="margin: 0px 0px 15px\; padding: 0px\; color: rgb(102\, 102\, 102)\; line-height: 22px\; font-family: &quot\;Droid Sans&quot\;\, &quot\;Lucida Grande&quot\;\, Arial\, sans-serif\; font-size: 14px\;">This Colorado native is a contemporary vocalist who uses her deep roots in jazz\, folk and R&amp\;B to perform in an array of settings. From exploring her own original music to taking on the beloved melodies of Joni Mitchell\, she sings with demanding prowess and captivating originality.</p>\n\n<p style="margin: 0px 0px 15px\; padding: 0px\; color: rgb(102\, 102\, 102)\; line-height: 22px\; font-family: &quot\;Droid Sans&quot\;\, &quot\;Lucida Grande&quot\;\, Arial\, sans-serif\; font-size: 14px\;">Joining O&rsquo\;Donnell will be Chris Klaxton on trumpet and piano\, Jonny Peiffer on piano and aux percussion\, Sam Weber on bass\, and Jay Sawyer on drums.&nbsp\; They will be performing a mix of Joni Mitchell\, Laura Nyro\, Anais Mitchell\, and original songs tunes.&nbsp\;</p>\n\n<h5 style="margin: 15px 0px 0px\; color: rgb(167\, 121\, 53)\; text-transform: uppercase\; line-height: 1.12rem\; font-family: &quot\;Droid Sans&quot\;\, &quot\;Lucida Grande&quot\;\, Arial\, sans-serif\; font-size: 0.87rem\;"><span style="color: rgb(0\, 0\, 0)\;">LEFT BANK CABARET</span></h5>\n\n<p style="margin: 0px 0px 15px\; padding: 0px\; color: rgb(102\, 102\, 102)\; line-height: 22px\; font-family: &quot\;Droid Sans&quot\;\, &quot\;Lucida Grande&quot\;\, Arial\, sans-serif\; font-size: 14px\;">The series takes its name from Portsmouth&rsquo\;s location on the left bank of the Piscataqua River. Set in The Music Hall Loft\, this European-inspired cabaret boasts intimate table seating\; luxe interiors\; and a superior array of wine\, craft beers\, signature cocktails\, and upscale treats.</p>\n
LOCATION:Th Music Hall Loft
UID:e.1659.2178
SEQUENCE:3
DTSTAMP:20260419T174811Z
URL:https://business.portsmouthchamber.org/events/details/left-bank-cabaret-taylor-o-donnell-08-08-2014-2178
END:VEVENT

END:VCALENDAR
