BEGIN:VCALENDAR
VERSION:2.0
PRODID:-//ChamberMaster//Event Calendar 2.0//EN
METHOD:PUBLISH
X-PUBLISHED-TTL:P3D
REFRESH-INTERVAL:P3D
CALSCALE:GREGORIAN
BEGIN:VEVENT
DTSTART:20140727T000000Z
DTEND:20140727T030000Z
X-MICROSOFT-CDO-ALLDAYEVENT:FALSE
SUMMARY:Left Bank Cabaret: Ute Gfrerer
DESCRIPTION:Join Austrian born\, Boston-based cabaret singer Ute Gfrerer and her talented accompanist William Merrill for a new program\, "From Austria\, with Love."  With music by Kurt Weill\, Stephen Sondheim\, Leonard Bernstein\, Marcus Blitzstein\, Oscar Hammerstein\, and more\, this shape-shifter chanteuse will share her unique\, authentic\, and humorous world view.\n\nLEFT BANK CABARET\nThe series takes its name from Portsmouth's location on the left bank of the Piscataqua River. Set in The Music Hall Loft\, this European-inspired cabaret boasts intimate table seating\; luxe interiors\; and a superior array of wine\, craft beers\, signature cocktails\, and upscale treats.
X-ALT-DESC;FMTTYPE=text/html:<pre style="margin: 0px 0px 15px\; padding: 0px\; color: rgb(102\, 102\, 102)\; font-family: 'Droid Sans'\, 'Lucida Grande'\, Arial\, sans-serif\; font-size: 14px\; line-height: 22px\;">\n<span style="color: rgb(102\, 102\, 102)\; line-height: 22px\;">Join Austrian born\, Boston-based cabaret singer Ute Gfrerer and her talented accompanist William Merrill for a new program\, &ldquo\;From Austria\, with Love.&rdquo\;  With music by Kurt Weill\, Stephen Sondheim\, Leonard Bernstein\, Marcus Blitzstein\, Oscar Hammerstein\, and more\, this shape-shifter chanteuse will share her unique\, authentic\, and humorous world view.</span><span style="color: rgb(102\, 102\, 102)\; line-height: 22px\;">\n</span>\n<strong>LEFT BANK CABARET</strong>\nThe series takes its name from Portsmouth&rsquo\;s location on the left bank of the Piscataqua River. Set in The Music Hall Loft\, this European-inspired cabaret boasts intimate table seating\; luxe interiors\; and a superior array of wine\, craft beers\, signature cocktails\, and upscale treats.</pre>\n
LOCATION:The Music Hall Loft
UID:e.1659.2173
SEQUENCE:3
DTSTAMP:20260419T185851Z
URL:https://business.portsmouthchamber.org/events/details/left-bank-cabaret-ute-gfrerer-07-26-2014-2173
END:VEVENT

END:VCALENDAR
