BEGIN:VCALENDAR
VERSION:2.0
PRODID:-//ChamberMaster//Event Calendar 2.0//EN
METHOD:PUBLISH
X-PUBLISHED-TTL:P3D
REFRESH-INTERVAL:P3D
CALSCALE:GREGORIAN
BEGIN:VEVENT
DTSTART:20140726T000000Z
DTEND:20140726T030000Z
X-MICROSOFT-CDO-ALLDAYEVENT:FALSE
SUMMARY:Left Bank Cabaret: Wondertwins
DESCRIPTION:The identical twins came from the mean streets to become stars of the legendary Apollo Theater in Harlem. They'll bring their trademark hip-hop and robopop dance and gentlemanly airs\, along with their DJ\, to the Left Bank Cabaret.\n\nLEFT BANK CABARET\n\nThe series takes its name from Portsmouth's location on the left bank of the Piscataqua River. Set in The Music Hall Loft\, this European-inspired cabaret boasts intimate table seating\; luxe interiors\; and a superior array of wine\, craft beers\, signature cocktails\, and upscale treats.
X-ALT-DESC;FMTTYPE=text/html:<p style="margin: 0px 0px 15px\; padding: 0px\; color: rgb(102\, 102\, 102)\; line-height: 22px\; font-family: &quot\;Droid Sans&quot\;\, &quot\;Lucida Grande&quot\;\, Arial\, sans-serif\; font-size: 14px\;">The identical twins came from the mean streets to become stars of the legendary Apollo Theater in Harlem. They&rsquo\;ll bring their trademark hip-hop and robopop dance and gentlemanly airs\, along with their DJ\, to the Left Bank Cabaret.</p>\n\n<h5 style="margin: 15px 0px 0px\; color: rgb(167\, 121\, 53)\; text-transform: uppercase\; line-height: 1.12rem\; font-family: &quot\;Droid Sans&quot\;\, &quot\;Lucida Grande&quot\;\, Arial\, sans-serif\; font-size: 0.87rem\;"><span style="color: rgb(0\, 0\, 0)\;">LEFT BANK CABARET</span></h5>\n\n<p style="margin: 0px 0px 15px\; padding: 0px\; color: rgb(102\, 102\, 102)\; line-height: 22px\; font-family: &quot\;Droid Sans&quot\;\, &quot\;Lucida Grande&quot\;\, Arial\, sans-serif\; font-size: 14px\;">The series takes its name from Portsmouth&rsquo\;s location on the left bank of the Piscataqua River. Set in The Music Hall Loft\, this European-inspired cabaret boasts intimate table seating\; luxe interiors\; and a superior array of wine\, craft beers\, signature cocktails\, and upscale treats.</p>\n
LOCATION:The Music Hall Loft
UID:e.1659.2172
SEQUENCE:3
DTSTAMP:20260419T190014Z
URL:https://business.portsmouthchamber.org/events/details/left-bank-cabaret-wondertwins-07-25-2014-2172
END:VEVENT

END:VCALENDAR
