BEGIN:VCALENDAR
VERSION:2.0
PRODID:-//ChamberMaster//Event Calendar 2.0//EN
METHOD:PUBLISH
X-PUBLISHED-TTL:P3D
REFRESH-INTERVAL:P3D
CALSCALE:GREGORIAN
BEGIN:VEVENT
DTSTART:20140116T223000Z
DTEND:20140117T003000Z
X-MICROSOFT-CDO-ALLDAYEVENT:FALSE
SUMMARY:Legislative Reception
DESCRIPTION:An annual event to get connect with your legislators. Members of the Chamber's Government Affairs Committee feel that it is especially important to get to know your state representatives.
X-ALT-DESC;FMTTYPE=text/html:An annual event to get connect with your legislators. Members of the Chamber&#39\;s Government Affairs Committee feel that it is especially important to get to know your state representatives.&nbsp\;
LOCATION:Sheraton Portsmouth Harborside Hotel
UID:e.1659.1015
SEQUENCE:3
DTSTAMP:20260420T031105Z
URL:https://business.portsmouthchamber.org/events/details/legislative-reception-01-16-2014-1015
END:VEVENT

END:VCALENDAR
