BEGIN:VCALENDAR
VERSION:2.0
PRODID:-//ChamberMaster//Event Calendar 2.0//EN
METHOD:PUBLISH
X-PUBLISHED-TTL:P3D
REFRESH-INTERVAL:P3D
CALSCALE:GREGORIAN
BEGIN:VEVENT
DTSTART:20170304T190000Z
DTEND:20170304T230000Z
X-MICROSOFT-CDO-ALLDAYEVENT:FALSE
SUMMARY:Liar's Bench Beer Co. invites you to BOCKFEST (a Portsmouth Beer Week event)
DESCRIPTION:Winter is a time for dark\, full-bodied and warming beer. Some prefer to drink those beers snuggled up around a crackling fire while wearing flannel footed-pajamas. Not us. We like to drink those beers as though they were summer light lagers while we stand outside in the frozen air trying to absorb as much Vitamin D through the space between the top of our scarves and bottom of our beanies as possible.\n\n\n\nIf you are like us\, BOCKFEST is for you.\n\n\n\nThis March\, we will be helping to close out Portsmouth Beer Week with an outdoor bock drinking extravaganza. Join us in raising our steins to the goat!\n\n\n\nBREWERIES POURING BOCKS:\n\n\n	Throwback Brewery\n	Smuttynose Brewing Co.\n	Smuttlabs\n	Liars Bench Beer Co.\n\nFOOD VENDORS:\n\n\n	Flatbread Company\n	Moxy\n\n\n\nThings to know:\n\nBOCKFEST will be held in the parking lot of Liars Bench Beer Co. It is an outdoor event.\n\nFood is not included in ticket purchase\n\nTHIS IS A 21+ EVENT. ID's WILL BE REQUIRED\n\nNo backpacks will be allowed on festival grounds\n\nNo outside food or beverages will be allowed on festival grounds\n\nPlease\, refrain from drinking alcoholic beverages outside of the gates of BOCKFEST. We hope to continue this tradition but we need your help and cooperation to do so.
X-ALT-DESC;FMTTYPE=text/html:<p>Winter is a time for dark\, full-bodied and warming beer. Some prefer to drink those beers snuggled up around a crackling fire while wearing flannel footed-pajamas. Not us. We like to drink those beers as though they were summer light lagers while we stand outside in the frozen air trying to absorb as much Vitamin D through the space between the top of our scarves and bottom of our beanies as possible.<br />\n<br />\nIf you are like us\, BOCKFEST is for you.<br />\n<br />\nThis March\, we will be helping to close out Portsmouth Beer Week with an outdoor bock drinking extravaganza. Join us in raising our steins to the goat!<br />\n<br />\nBREWERIES POURING BOCKS:</p>\n\n<ul>\n	<li>Throwback Brewery</li>\n	<li>Smuttynose Brewing Co.</li>\n	<li>Smuttlabs</li>\n	<li>Liars Bench Beer Co.</li>\n</ul>\nFOOD VENDORS:\n\n<ul>\n	<li>Flatbread Company</li>\n	<li>Moxy</li>\n</ul>\n<br />\nThings to know:<br />\nBOCKFEST will be held in the parking lot of Liars Bench Beer Co. It is an outdoor event.<br />\nFood is not included in ticket purchase<br />\nTHIS IS A 21+ EVENT. ID&rsquo\;s WILL BE REQUIRED<br />\nNo backpacks will be allowed on festival grounds<br />\nNo outside food or beverages will be allowed on festival grounds<br />\nPlease\, refrain from drinking alcoholic beverages outside of the gates of BOCKFEST. We hope to continue this tradition but we need your help and cooperation to do so.
LOCATION:Parking Lot of Liars Bench Co. 459 Islington St\, Portsmouth
UID:e.1659.29904
SEQUENCE:3
DTSTAMP:20260421T151538Z
URL:https://business.portsmouthchamber.org/events/details/liar-s-bench-beer-co-invites-you-to-bockfest-a-portsmouth-beer-week-event-29904
END:VEVENT

END:VCALENDAR
