BEGIN:VCALENDAR
VERSION:2.0
PRODID:-//ChamberMaster//Event Calendar 2.0//EN
METHOD:PUBLISH
X-PUBLISHED-TTL:P3D
REFRESH-INTERVAL:P3D
CALSCALE:GREGORIAN
BEGIN:VEVENT
DTSTART:20170302T210000Z
DTEND:20170303T020000Z
X-MICROSOFT-CDO-ALLDAYEVENT:FALSE
SUMMARY:Liar's Bench Co. and Bad Lab Beer Co. Release their Beer Collaboration
DESCRIPTION:Join Liars Bench and Bad Lab Beer Co. for their debut of the collaboration brew\, aptly named "Bad Liar". Celebrate with great beer\, oysters\, and friends!
X-ALT-DESC;FMTTYPE=text/html:Join&nbsp\;Liars Bench and Bad Lab Beer Co. for their debut of the collaboration brew\,&nbsp\;aptly named &ldquo\;Bad Liar&rdquo\;. Celebrate with&nbsp\;great beer\, oysters\, and friends!
LOCATION:Franklin Oyster House 148 Fleet St\, Portsmouth
UID:e.1659.29905
SEQUENCE:3
DTSTAMP:20260421T150650Z
URL:https://business.portsmouthchamber.org/events/details/liar-s-bench-co-and-bad-lab-beer-co-release-their-beer-collaboration-29905
END:VEVENT

END:VCALENDAR
