BEGIN:VCALENDAR
VERSION:2.0
PRODID:-//ChamberMaster//Event Calendar 2.0//EN
METHOD:PUBLISH
X-PUBLISHED-TTL:P3D
REFRESH-INTERVAL:P3D
CALSCALE:GREGORIAN
BEGIN:VEVENT
DTSTART:20260307T000000Z
DTEND:20260307T013000Z
X-MICROSOFT-CDO-ALLDAYEVENT:FALSE
SUMMARY:Literary in the Lounge - Tayari Jones with KIN
DESCRIPTION:On Friday\, March 6 at 7pm\, award-winning writer Tayari Jones visits The Music Hall Lounge with her new book\, KIN. A magnificent new novel from the bestselling author of An American Marriage\, KIN is about two lifelong friends whose worlds converge after many years apart in the face of a devastating tragedy.\n\n\n\nThis 7pm event features a moderated conversation\, and is followed by an audience Q&A and a post-show meet-and-greet. It will be held at The Music Hall Lounge at 131 Congress St.\, Portsmouth\, New Hampshire. Tickets are $47 and include a signed book (KIN\, $32\, hardcover).\n\n\n\nAbout the book:\n\nVernice and Annie\, two motherless daughters raised in Honeysuckle\, Louisiana\, have been best friends and neighbors since earliest childhood\, but are fated to live starkly different lives. Raised by a fierce aunt determined to give her a stable home in the wake of her mother's death\, Vernice leaves Honeysuckle at eighteen for Spelman College\, where she joins a sisterhood of powerfully connected Black women and discovers a world of affluence\, manners\, aspiration\, and inequality. Annie\, abandoned by her mother as a child and fixated on the idea of finding her and filling the bottomless hole left by her absence\, sets off on a journey that will take her into a world of peril and adversity\, as well as love and adventure\, culminating in a battle for her life.\n\n \n\nA novel about mothers and daughters\, friendship and sisterhood\, and the complexities of being a woman in the American South\, KIN is an exuberant\, emotionally rich\, unforgettable work from one of the brightest and most irresistible voices in contemporary fiction.\n\n\n\nAbout the author:\n\nTayari Jones is the author of four novels\, most recently An American Marriage\, which was an Oprah's Book Club selection and also appeared on Barack Obama's summer reading list\, as well as in his year-end roundup. It won the Women's Prize for Fiction\, the Aspen Words Literary Prize\, and an NAACP Image Award and has been published in two dozen countries. Jones is the C.H. Candler Professor of English and Creative Writing at Emory University and lives in Atlanta.
X-ALT-DESC;FMTTYPE=text/html:On Friday\, March 6 at 7pm\, award-winning writer Tayari Jones visits The Music Hall Lounge with her new book\, KIN. A magnificent new novel from the bestselling author of An American Marriage\, KIN is about two lifelong friends whose worlds converge after many years apart in the face of a devastating tragedy.<br />\n<br />\nThis 7pm event features a moderated conversation\, and is followed by an audience Q&amp\;A and a post-show meet-and-greet. It will be held at The Music Hall Lounge at 131 Congress St.\, Portsmouth\, New Hampshire. Tickets are $47 and include a signed book (KIN\, $32\, hardcover).<br />\n<br />\nAbout the book:<br />\nVernice and Annie\, two motherless daughters raised in Honeysuckle\, Louisiana\, have been best friends and neighbors since earliest childhood\, but are fated to live starkly different lives. Raised by a fierce aunt determined to give her a stable home in the wake of her mother&rsquo\;s death\, Vernice leaves Honeysuckle at eighteen for Spelman College\, where she joins a sisterhood of powerfully connected Black women and discovers a world of affluence\, manners\, aspiration\, and inequality. Annie\, abandoned by her mother as a child and fixated on the idea of finding her and filling the bottomless hole left by her absence\, sets off on a journey that will take her into a world of peril and adversity\, as well as love and adventure\, culminating in a battle for her life.<br />\n&nbsp\;<br />\nA novel about mothers and daughters\, friendship and sisterhood\, and the complexities of being a woman in the American South\, KIN is an exuberant\, emotionally rich\, unforgettable work from one of the brightest and most irresistible voices in contemporary fiction.<br />\n<br />\nAbout the author:<br />\nTayari Jones is the author of four novels\, most recently An American Marriage\, which was an Oprah&rsquo\;s Book Club selection and also appeared on Barack Obama&rsquo\;s summer reading list\, as well as in his year-end roundup. It won the Women&rsquo\;s Prize for Fiction\, the Aspen Words Literary Prize\, and an NAACP Image Award and has been published in two dozen countries. Jones is the C.H. Candler Professor of English and Creative Writing at Emory University and lives in Atlanta.
LOCATION:The Music Hall Lounge 131 Congress Street Portsmouth\, NH
UID:e.1659.88467
SEQUENCE:3
DTSTAMP:20260423T054846Z
URL:https://business.portsmouthchamber.org/events/details/literary-in-the-lounge-tayari-jones-with-kin-88467
END:VEVENT

END:VCALENDAR
