BEGIN:VCALENDAR
VERSION:2.0
PRODID:-//ChamberMaster//Event Calendar 2.0//EN
METHOD:PUBLISH
X-PUBLISHED-TTL:P3D
REFRESH-INTERVAL:P3D
CALSCALE:GREGORIAN
BEGIN:VEVENT
DTSTART:20260504T144500Z
DTEND:20260504T153000Z
X-MICROSOFT-CDO-ALLDAYEVENT:FALSE
SUMMARY:Little Artists: “Self Portraits”
DESCRIPTION:Join us for Little Artists at the Children's Museum of New Hampshire. We are excited to invite little artists (ages 3.5 5 years old) to our May session! This 45 minute drop-off class includes a story and an art project to take home. Grown-ups are welcome to stay in the building during class time\, and families with siblings may opt to play on the second floor during the class time please note that the museum is closed to the public on Mondays. Cost is Members $15/child\; Non-Members $18/child. Pre-registration is required. Visit https://childrens-museum.org/programs/classes/little-artists/  to learn more.
X-ALT-DESC;FMTTYPE=text/html:<p><span style="background-color:transparent\; font-family:arial\,sans-serif\; font-size:12pt">Join us for Little Artists at the Children&rsquo\;s Museum of New Hampshire. We are excited to invite little artists </span><strong>(ages 3.5&ndash\;5 years old)</strong><span style="background-color:transparent\; font-family:arial\,sans-serif\; font-size:12pt"> to our May session! This 45 minute drop-off class includes a story and an art project to take home. Grown-ups are welcome to stay in the building during class time\, and families with siblings may opt to play on the second floor during the class time&mdash\;please note that the museum is closed to the public on Mondays. Cost is Members $15/child\; Non-Members $18/child. Pre-registration is required. Visit</span><a href="http://www.childrens-museum.org" style="text-decoration-line: none\;"><span style="background-color:transparent\; color:rgb(51\, 51\, 51)\; font-family:arial\,sans-serif\; font-size:12pt"> </span></a><a href="https://childrens-museum.org/programs/classes/little-artists/" style="text-decoration-line: none\;"><span style="background-color:transparent\; color:rgb(17\, 85\, 204)\; font-family:arial\,sans-serif\; font-size:12pt">https://childrens-museum.org/programs/classes/little-artists/</span></a><span style="background-color:transparent\; font-family:arial\,sans-serif\; font-size:12pt">&nbsp\; to learn more.</span></p>\n\n<div>&nbsp\;</div>\n
LOCATION:The Children's Museum of New Hampshire 6 Washington Street Dover\, NH 03820
UID:e.1659.91469
SEQUENCE:3
DTSTAMP:20260423T213831Z
URL:https://business.portsmouthchamber.org/events/details/little-artists-self-portraits-91469
END:VEVENT

END:VCALENDAR
