BEGIN:VCALENDAR
VERSION:2.0
PRODID:-//ChamberMaster//Event Calendar 2.0//EN
METHOD:PUBLISH
X-PUBLISHED-TTL:P3D
REFRESH-INTERVAL:P3D
CALSCALE:GREGORIAN
BEGIN:VEVENT
DTSTART:20140323T000000Z
DTEND:20140323T030000Z
X-MICROSOFT-CDO-ALLDAYEVENT:FALSE
SUMMARY:Live Greek Music and Belly Dancing
DESCRIPTION:Live Greek Music with Chuck Koustas and Ross Richardson. Belly Dancing performance at 9pm by Zabel. Delicious Greek cuisine\, Greek music and dancing. Reservations accepted for groups of 6 or more.
X-ALT-DESC;FMTTYPE=text/html:Live Greek Music with Chuck Koustas and Ross Richardson. Belly Dancing performance at 9pm by Zabel. Delicious Greek cuisine\, Greek music and dancing. Reservations accepted for groups of 6 or more. 
LOCATION:Cafe Nostimo Deliciously Greek 72 Mirona Road Portsmouth NH
UID:e.1659.1021
SEQUENCE:3
DTSTAMP:20260420T003627Z
URL:https://business.portsmouthchamber.org/events/details/live-greek-music-and-belly-dancing-03-22-2014-1021
END:VEVENT

END:VCALENDAR
