BEGIN:VCALENDAR
VERSION:2.0
PRODID:-//ChamberMaster//Event Calendar 2.0//EN
METHOD:PUBLISH
X-PUBLISHED-TTL:P3D
REFRESH-INTERVAL:P3D
CALSCALE:GREGORIAN
BEGIN:VEVENT
DTSTART:20160118T000000Z
DTEND:20160118T020000Z
X-MICROSOFT-CDO-ALLDAYEVENT:FALSE
SUMMARY:Live @ The Loft - Glen David Andrews
DESCRIPTION:From making waves headlining the annual New Orleans Jazz and Heritage Festival to his regular gigs at iconic NOLA clubs\, Glen David Andrews is part of New Orleans music royalty. Andrews' music has a presence and sweetness that has long endeared him to audiences and has made him a Music Hall favorite. Get ready for a night of gospel\, blues\, and jazz music that will transport you right to the Mardi Gras Parades. Don't miss this unforgettable night as Glen David Andrews returns to the Loft.
X-ALT-DESC;FMTTYPE=text/html:<span style="color: rgb(102\, 102\, 102)\; font-family: 'Droid Sans'\, 'Lucida Grande'\, Arial\, sans-serif\; font-size: 16.8px\; line-height: 26.4px\;">From making waves headlining the annual New Orleans Jazz and Heritage Festival to his regular gigs at iconic NOLA clubs\, Glen David Andrews is part of New Orleans music royalty. Andrews&rsquo\; music has a presence and sweetness that has long endeared him to audiences and has made him a Music Hall favorite. Get ready for a night of gospel\, blues\, and jazz music that will transport you right to the Mardi Gras Parades. Don&rsquo\;t miss this unforgettable night as Glen David Andrews returns to the Loft.</span>
LOCATION:The Music Hall Loft 131 Congress Street\, Portsmouth
UID:e.1659.13851
SEQUENCE:3
DTSTAMP:20260420T115748Z
URL:https://business.portsmouthchamber.org/events/details/live-the-loft-glen-david-andrews-01-17-2016-13851
END:VEVENT

END:VCALENDAR
