BEGIN:VCALENDAR
VERSION:2.0
PRODID:-//ChamberMaster//Event Calendar 2.0//EN
METHOD:PUBLISH
X-PUBLISHED-TTL:P3D
REFRESH-INTERVAL:P3D
CALSCALE:GREGORIAN
BEGIN:VEVENT
DTSTART:20160331T233000Z
DTEND:20160401T020000Z
X-MICROSOFT-CDO-ALLDAYEVENT:FALSE
SUMMARY:Live @ The Loft - Mokoomba
DESCRIPTION:From Victoria Falls in Zimbabwe\, Mokoomba is one of Africa's most exciting young bands. Their music is vibrant and distinctive combining their traditional Tonga and pan-African music cultures with dashes of rap\, ska\, soukous and Afro-Cuban music. Since winning the Music Crossroads Inter-Regional Festival Competitionin Malawi in 2008\, the band has toured more than 40 countries in Africa\, Europe\, Asia and Oceania\, received critical attention for their recordings and numerous accolades.
X-ALT-DESC;FMTTYPE=text/html:<span style="color: rgb(102\, 102\, 102)\; font-family: 'Droid Sans'\, 'Lucida Grande'\, Arial\, sans-serif\; font-size: 16.8px\; line-height: 26.4px\;">From Victoria Falls in Zimbabwe\, Mokoomba is one of Africa&rsquo\;s most exciting young bands. Their music is vibrant and distinctive&mdash\;combining their traditional Tonga and pan-African music cultures with dashes of rap\, ska\, soukous and Afro-Cuban music. Since winning the&nbsp\;</span><em style="color: rgb(102\, 102\, 102)\; font-family: 'Droid Sans'\, 'Lucida Grande'\, Arial\, sans-serif\; font-size: 16.8px\; line-height: 26.4px\;">Music Crossroads Inter-Regional Festival </em><em style="color: rgb(102\, 102\, 102)\; font-family: 'Droid Sans'\, 'Lucida Grande'\, Arial\, sans-serif\; font-size: 16.8px\; line-height: 26.4px\;">Competition</em><span style="color: rgb(102\, 102\, 102)\; font-family: 'Droid Sans'\, 'Lucida Grande'\, Arial\, sans-serif\; font-size: 16.8px\; line-height: 26.4px\;">in</span><span style="color: rgb(102\, 102\, 102)\; font-family: 'Droid Sans'\, 'Lucida Grande'\, Arial\, sans-serif\; font-size: 16.8px\; line-height: 26.4px\;"> Malawi in 2008\, the band has toured more than 40 countries in Africa\, Europe\, Asia and Oceania\, received critical attention for their recordings and numerous accolades.</span>
LOCATION:The Music Hall Loft 131 Congress Street\, Portsmouth
UID:e.1659.16728
SEQUENCE:3
DTSTAMP:20260420T145457Z
URL:https://business.portsmouthchamber.org/events/details/live-the-loft-mokoomba-03-31-2016-16728
END:VEVENT

END:VCALENDAR
