BEGIN:VCALENDAR
VERSION:2.0
PRODID:-//ChamberMaster//Event Calendar 2.0//EN
METHOD:PUBLISH
X-PUBLISHED-TTL:P3D
REFRESH-INTERVAL:P3D
CALSCALE:GREGORIAN
BEGIN:VEVENT
DTSTART:20260311T163000Z
DTEND:20260311T190000Z
X-MICROSOFT-CDO-ALLDAYEVENT:FALSE
SUMMARY:Living on Turtle Island: Abenaki Heritage Homeschool Program (ages 7-11)
DESCRIPTION:Living on Turtle Island: Abenaki Heritage Past and Present Wednesday\, March 11\, 2026 12:30 PM - 3 PM Discover New Hampshire's Indigenous heritage by exploring Abenaki culture! Try your hand at storytelling\, learn how to care for New England's natural resources\, build a model of a wigwam\, make delicious pemmican\, and play a traditional guessing game. Students will visit three historic buildings\, including the People of the Dawnland exhibit. Topics include cultural traditions\, New England history\, geography\, foodways\, communication\, and conservation. Cost: $15.00 for first student\, 10% off each additional student. One adult per family group is allowed to attend.
X-ALT-DESC;FMTTYPE=text/html:Living on Turtle Island: Abenaki Heritage Past and Present Wednesday\, March 11\, 2026 12:30 PM - 3 PM Discover New Hampshire&rsquo\;s Indigenous heritage by exploring Abenaki culture! Try your hand at storytelling\, learn how to care for New England&rsquo\;s natural resources\, build a model of a wigwam\, make delicious pemmican\, and play a traditional guessing game. Students will visit three historic buildings\, including the People of the Dawnland exhibit. Topics include cultural traditions\, New England history\, geography\, foodways\, communication\, and conservation. Cost: $15.00 for first student\, 10% off each additional student. One adult per family group is allowed to attend.
LOCATION:Strawbery Banke Museum 14 Hancock Street\, Portsmouth\, NH
UID:e.1659.87076
SEQUENCE:3
DTSTAMP:20260423T070552Z
URL:https://business.portsmouthchamber.org/events/details/living-on-turtle-island-abenaki-heritage-homeschool-program-ages-7-11-87076
END:VEVENT

END:VCALENDAR
